BEGIN:VCALENDAR
VERSION:2.0
PRODID:-//Crystal Falls Service Unit - ECPv6.15.20//NONSGML v1.0//EN
CALSCALE:GREGORIAN
METHOD:PUBLISH
X-WR-CALNAME:Crystal Falls Service Unit
X-ORIGINAL-URL:https://www.crystalfallsgirlscouts.org
X-WR-CALDESC:Events for Crystal Falls Service Unit
REFRESH-INTERVAL;VALUE=DURATION:PT1H
X-Robots-Tag:noindex
X-PUBLISHED-TTL:PT1H
BEGIN:VTIMEZONE
TZID:America/Chicago
BEGIN:DAYLIGHT
TZOFFSETFROM:-0600
TZOFFSETTO:-0500
TZNAME:CDT
DTSTART:20240310T080000
END:DAYLIGHT
BEGIN:STANDARD
TZOFFSETFROM:-0500
TZOFFSETTO:-0600
TZNAME:CST
DTSTART:20241103T070000
END:STANDARD
BEGIN:DAYLIGHT
TZOFFSETFROM:-0600
TZOFFSETTO:-0500
TZNAME:CDT
DTSTART:20250309T080000
END:DAYLIGHT
BEGIN:STANDARD
TZOFFSETFROM:-0500
TZOFFSETTO:-0600
TZNAME:CST
DTSTART:20251102T070000
END:STANDARD
BEGIN:DAYLIGHT
TZOFFSETFROM:-0600
TZOFFSETTO:-0500
TZNAME:CDT
DTSTART:20260308T080000
END:DAYLIGHT
BEGIN:STANDARD
TZOFFSETFROM:-0500
TZOFFSETTO:-0600
TZNAME:CST
DTSTART:20261101T070000
END:STANDARD
END:VTIMEZONE
BEGIN:VEVENT
DTSTART;TZID=America/Chicago:20251001T080000
DTEND;TZID=America/Chicago:20251015T170000
DTSTAMP:20260423T171058
CREATED:20250818T211723Z
LAST-MODIFIED:20250818T211734Z
UID:10000225-1759305600-1760547600@www.crystalfallsgirlscouts.org
SUMMARY:Fall Products Sales Begin!!
DESCRIPTION:October 1-13: in-person sales \n\n\n\nOctober 1-15: online girl-delivery sales \n\n\n\nOctober 1 – November 3: Online direct ship sales \n\n\n\nNovember 3-14: Estimated product available for pickup
URL:https://www.crystalfallsgirlscouts.org/event/fall-products-sales-begin/
LOCATION:Texas
END:VEVENT
BEGIN:VEVENT
DTSTART;TZID=America/Chicago:20251004T151500
DTEND;TZID=America/Chicago:20251004T163000
DTSTAMP:20260423T171058
CREATED:20250908T185816Z
LAST-MODIFIED:20250908T185828Z
UID:10000243-1759590900-1759595400@www.crystalfallsgirlscouts.org
SUMMARY:CFSU Investiture & Rededication Ceremony
DESCRIPTION:Please mark your calendars for our Investiture & Rededication Ceremony. It will be held Saturday\, October 4th at Camacho Elementary Cafeteria (501 Municipal Dr.\, Leander\, TX). Doors open at 3:20pm but we are asking all troops to be on site by 3:15pm. Ceremony begins at 3:30pm. \n\n\n\nWhat is Investiture/Rededication? Investiture is an official Girl Scout Ceremony where we welcome all new members to Girl Scouts and existing members reaffirm their commitment to the Girl Scout Promise and Law. \n\n\n\nIs there a dress code? Yes. Since this is an official Girl Scout Ceremony\, all Girl Scouts and Troop Leaders are expected to wear their official Girl Scout Uniform. The official uniform for Girl Scouts consists of a white top with khaki bottoms\, along with their vest\, tunic\, or sash. If a Girl Scout does not have her vest/tunic/sash yet\, wearing her insignia tab alone is acceptable. Leaders are to dress neatly and wear their insignia tab (or Leader’s Vest if they have one). \n\n\n\nThe event is free to all and we will be handing out a fun patch to each Girl Scout who registers. Please note\, the deadline to register is September 25th.
URL:https://www.crystalfallsgirlscouts.org/event/cfsu-investiture-rededication-ceremony/
LOCATION:Texas
END:VEVENT
BEGIN:VEVENT
DTSTART;TZID=America/Chicago:20251006T080000
DTEND;TZID=America/Chicago:20251006T170000
DTSTAMP:20260423T171058
CREATED:20251007T002835Z
LAST-MODIFIED:20251007T002851Z
UID:10000248-1759737600-1759770000@www.crystalfallsgirlscouts.org
SUMMARY:Leaders' Meeting - In-Person & Zoom Hybrid
DESCRIPTION:North Way Bible Church: 589 W San Gabriel Pkwy Leander\, TX 78641  \n\n\n\n6:30-7:30pmhttps://us06web.zoom.us/j/81977447116?pwd=Oue4EuMnaKf2CpLQQaf723agD514hA.1 Meeting ID: 819 7744 7116 Passcode: CFSU<3 \n\n\n\n6:30-7:30pmhttps://us06web.zoom.us/j/81977447116?pwd=Oue4EuMnaKf2CpLQQaf723agD514hA.1 Meeting ID: 819 7744 7116 Passcode: CFSU<3
URL:https://www.crystalfallsgirlscouts.org/event/leaders-meeting-in-person-zoom-hybrid-3/
LOCATION:Texas
END:VEVENT
BEGIN:VEVENT
DTSTART;TZID=America/Chicago:20251011T173000
DTEND;TZID=America/Chicago:20251011T193000
DTSTAMP:20260423T171058
CREATED:20251011T170932Z
LAST-MODIFIED:20251011T170946Z
UID:10000262-1760203800-1760211000@www.crystalfallsgirlscouts.org
SUMMARY:Block House Creek Elem. Haunted Trail 5:30-7:30 pm
DESCRIPTION:
URL:https://www.crystalfallsgirlscouts.org/event/block-house-creek-elem-haunted-trail-530-730-pm/
LOCATION:Texas
END:VEVENT
BEGIN:VEVENT
DTSTART;TZID=America/Chicago:20251018T143000
DTEND;TZID=America/Chicago:20251018T163000
DTSTAMP:20260423T171058
CREATED:20250905T213645Z
LAST-MODIFIED:20250905T214404Z
UID:10000230-1760797800-1760805000@www.crystalfallsgirlscouts.org
SUMMARY:General cookie program troop training for Troop Cookie Coordinators
DESCRIPTION:General cookie program troop training for Troop Cookie Coordinators signed up for the upcoming season. Attending training is required to participate in the cookie program. \n\n\n\nIn-person\, KILLEEN\, TX for both New and Experienced TCCs
URL:https://www.crystalfallsgirlscouts.org/event/general-cookie-program-troop-training-for-troop-cookie-coordinators/
LOCATION:Texas
END:VEVENT
BEGIN:VEVENT
DTSTART;TZID=America/Chicago:20251019T190000
DTEND;TZID=America/Chicago:20251019T203000
DTSTAMP:20260423T171058
CREATED:20250905T215027Z
LAST-MODIFIED:20250905T215036Z
UID:10000231-1760900400-1760905800@www.crystalfallsgirlscouts.org
SUMMARY:General cookie program troop training for Troop Cookie Coordinators
DESCRIPTION:General cookie program troop training for Troop Cookie Coordinators signed up for the upcoming season. Attending training is required to participate in the cookie program. \n\n\n\nVirtual for Experienced TCC 3+ years
URL:https://www.crystalfallsgirlscouts.org/event/general-cookie-program-troop-training-for-troop-cookie-coordinators-2/
LOCATION:Texas
END:VEVENT
BEGIN:VEVENT
DTSTART;TZID=America/Chicago:20251022T120000
DTEND;TZID=America/Chicago:20251022T133000
DTSTAMP:20260423T171058
CREATED:20250905T215329Z
LAST-MODIFIED:20250905T215338Z
UID:10000232-1761134400-1761139800@www.crystalfallsgirlscouts.org
SUMMARY:General cookie program troop training for Troop Cookie Coordinators
DESCRIPTION:General cookie program troop training for Troop Cookie Coordinators signed up for the upcoming season. Attending training is required to participate in the cookie program. \n\n\n\nVirtual for Experienced TCC 3+ years
URL:https://www.crystalfallsgirlscouts.org/event/general-cookie-program-troop-training-for-troop-cookie-coordinators-3/
LOCATION:Texas
END:VEVENT
BEGIN:VEVENT
DTSTART;TZID=America/Chicago:20251022T183000
DTEND;TZID=America/Chicago:20251022T203000
DTSTAMP:20260423T171058
CREATED:20250905T215652Z
LAST-MODIFIED:20250905T215700Z
UID:10000233-1761157800-1761165000@www.crystalfallsgirlscouts.org
SUMMARY:General cookie program troop training for Troop Cookie Coordinators
DESCRIPTION:General cookie program troop training for Troop Cookie Coordinators signed up for the upcoming season. Attending training is required to participate in the cookie program. \n\n\n\nVirtual for New TCC 0-2  years
URL:https://www.crystalfallsgirlscouts.org/event/general-cookie-program-troop-training-for-troop-cookie-coordinators-4/
LOCATION:Texas
END:VEVENT
BEGIN:VEVENT
DTSTART;TZID=America/Chicago:20251025T100000
DTEND;TZID=America/Chicago:20251025T120000
DTSTAMP:20260423T171058
CREATED:20250905T215841Z
LAST-MODIFIED:20250905T215937Z
UID:10000234-1761386400-1761393600@www.crystalfallsgirlscouts.org
SUMMARY:General cookie program troop training for Troop Cookie Coordinators
DESCRIPTION:General cookie program troop training for Troop Cookie Coordinators signed up for the upcoming season. Attending training is required to participate in the cookie program. \n\n\n\nIn-Person\, AUSTIN\, TX for New TCC 0-2  years
URL:https://www.crystalfallsgirlscouts.org/event/6157/
LOCATION:Texas
END:VEVENT
BEGIN:VEVENT
DTSTART;TZID=America/Chicago:20251025T100000
DTEND;TZID=America/Chicago:20251025T120000
DTSTAMP:20260423T171058
CREATED:20251011T170605Z
LAST-MODIFIED:20251014T214243Z
UID:10000261-1761386400-1761393600@www.crystalfallsgirlscouts.org
SUMMARY:Fall Festival Recruitment Event
DESCRIPTION:Stepping Stone Leander location on Block House
URL:https://www.crystalfallsgirlscouts.org/event/fall-festival-recruitment-event/
LOCATION:Texas
END:VEVENT
BEGIN:VEVENT
DTSTART;TZID=America/Chicago:20251025T140000
DTEND;TZID=America/Chicago:20251025T153000
DTSTAMP:20260423T171058
CREATED:20250905T220152Z
LAST-MODIFIED:20250905T220200Z
UID:10000235-1761400800-1761406200@www.crystalfallsgirlscouts.org
SUMMARY:General cookie program troop training for Troop Cookie Coordinators
DESCRIPTION:General cookie program troop training for Troop Cookie Coordinators signed up for the upcoming season. Attending training is required to participate in the cookie program. \n\n\n\nIn-Person\, AUSTIN\, TX for Experienced TCC 3+ years
URL:https://www.crystalfallsgirlscouts.org/event/general-cookie-program-troop-training-for-troop-cookie-coordinators-5/
LOCATION:Texas
END:VEVENT
BEGIN:VEVENT
DTSTART;TZID=America/Chicago:20251026T130000
DTEND;TZID=America/Chicago:20251026T150000
DTSTAMP:20260423T171058
CREATED:20250905T220343Z
LAST-MODIFIED:20250905T220352Z
UID:10000236-1761483600-1761490800@www.crystalfallsgirlscouts.org
SUMMARY:General cookie program troop training for Troop Cookie Coordinators
DESCRIPTION:General cookie program troop training for Troop Cookie Coordinators signed up for the upcoming season. Attending training is required to participate in the cookie program. \n\n\n\nVirtual for New TCC 0-2 years
URL:https://www.crystalfallsgirlscouts.org/event/general-cookie-program-troop-training-for-troop-cookie-coordinators-6/
LOCATION:Texas
END:VEVENT
BEGIN:VEVENT
DTSTART;TZID=America/Chicago:20251027T183000
DTEND;TZID=America/Chicago:20251027T193000
DTSTAMP:20260423T171058
CREATED:20251008T234320Z
LAST-MODIFIED:20251008T234338Z
UID:10000254-1761589800-1761593400@www.crystalfallsgirlscouts.org
SUMMARY:Leaders’ Meeting – In-Person & Zoom Hybrid
DESCRIPTION:Leaders’ Meeting – In-Person & Zoom Hybrid \n\n\n\nNorth Way Bible Church: 589 W San Gabriel Pkwy Leander\, TX 78641  \n\n\n\n6:30-7:30pm \n\n\n\nhttps://us06web.zoom.us/j/81977447116?pwd=Oue4EuMnaKf2CpLQQaf723agD514hA.1 Meeting ID: 819 7744 7116 Passcode: CFSU<3
URL:https://www.crystalfallsgirlscouts.org/event/leaders-meeting-in-person-zoom-hybrid-8/
LOCATION:Texas
END:VEVENT
BEGIN:VEVENT
DTSTART;TZID=America/Chicago:20251028T183000
DTEND;TZID=America/Chicago:20251028T203000
DTSTAMP:20260423T171058
CREATED:20250905T220634Z
LAST-MODIFIED:20250905T220642Z
UID:10000237-1761676200-1761683400@www.crystalfallsgirlscouts.org
SUMMARY:General cookie program troop training for Troop Cookie Coordinators 
DESCRIPTION:General cookie program troop training for Troop Cookie Coordinators signed up for the upcoming season. Attending training is required to participate in the cookie program. \n\n\n\nVirtual for both New and Experienced TCCs
URL:https://www.crystalfallsgirlscouts.org/event/general-cookie-program-troop-training-for-troop-cookie-coordinators-7/
LOCATION:Texas
END:VEVENT
END:VCALENDAR