BEGIN:VCALENDAR
VERSION:2.0
PRODID:-//Crystal Falls Service Unit - ECPv6.15.20//NONSGML v1.0//EN
CALSCALE:GREGORIAN
METHOD:PUBLISH
X-WR-CALNAME:Crystal Falls Service Unit
X-ORIGINAL-URL:https://www.crystalfallsgirlscouts.org
X-WR-CALDESC:Events for Crystal Falls Service Unit
REFRESH-INTERVAL;VALUE=DURATION:PT1H
X-Robots-Tag:noindex
X-PUBLISHED-TTL:PT1H
BEGIN:VTIMEZONE
TZID:America/Chicago
BEGIN:DAYLIGHT
TZOFFSETFROM:-0600
TZOFFSETTO:-0500
TZNAME:CDT
DTSTART:20240310T080000
END:DAYLIGHT
BEGIN:STANDARD
TZOFFSETFROM:-0500
TZOFFSETTO:-0600
TZNAME:CST
DTSTART:20241103T070000
END:STANDARD
BEGIN:DAYLIGHT
TZOFFSETFROM:-0600
TZOFFSETTO:-0500
TZNAME:CDT
DTSTART:20250309T080000
END:DAYLIGHT
BEGIN:STANDARD
TZOFFSETFROM:-0500
TZOFFSETTO:-0600
TZNAME:CST
DTSTART:20251102T070000
END:STANDARD
BEGIN:DAYLIGHT
TZOFFSETFROM:-0600
TZOFFSETTO:-0500
TZNAME:CDT
DTSTART:20260308T080000
END:DAYLIGHT
BEGIN:STANDARD
TZOFFSETFROM:-0500
TZOFFSETTO:-0600
TZNAME:CST
DTSTART:20261101T070000
END:STANDARD
END:VTIMEZONE
BEGIN:VEVENT
DTSTART;TZID=America/Chicago:20250802T100000
DTEND;TZID=America/Chicago:20250802T170000
DTSTAMP:20260423T203121
CREATED:20250429T174239Z
LAST-MODIFIED:20250429T174245Z
UID:10000221-1754128800-1754154000@www.crystalfallsgirlscouts.org
SUMMARY:2025 Annual Leader Retreat
DESCRIPTION:The annual leadership retreat is intended to strengthen bonds between troop leadership across the service unit and to help leaders gain new perspectives and information that can help them be stronger leaders. \n\n\n\nThe plans include activities that you could easily convert into activities for your girls\, roundtable discussions on topics you all surface\, an optional offsite dinner for anyone who wants to attend! \n\n\n\nRegistration\n\n\n\nRegister to attend \n\n\n\nCalendar Subscriptions\n\n\n\nRegistration link \n\n\n\nhttps://forms.gle/3UwxBTdceD7XQmmU8
URL:https://www.crystalfallsgirlscouts.org/event/2025-annual-leader-retreat/
LOCATION:Georgetown Girl Scout House\, 1511 Laurel Street\, Georgetown\, Texas\, 78626\, United States
CATEGORIES:Leader Meetings
ATTACH;FMTTYPE=image/jpeg:https://www.crystalfallsgirlscouts.org/wp-content/uploads/2022/06/retreat-scaled.jpeg
ORGANIZER;CN="Crystal Falls Service Unit Director":MAILTO:crystalfallssud@gmail.com
END:VEVENT
BEGIN:VEVENT
DTSTART;TZID=America/Chicago:20250811T170000
DTEND;TZID=America/Chicago:20250811T190000
DTSTAMP:20260423T203121
CREATED:20250807T222849Z
LAST-MODIFIED:20250807T222904Z
UID:10000222-1754931600-1754938800@www.crystalfallsgirlscouts.org
SUMMARY:Join GS @ Meet the Teacher Night (all LISD elementary campuses)
DESCRIPTION:***Check your specific campus for exact times*** \n\n\n\n \n\n\n\nInterested in joining Girl Scouts? We will have a booth set up at YOUR elementary school during Meet the Teacher Night on 8/11/2025
URL:https://www.crystalfallsgirlscouts.org/event/join-gs-meet-the-teacher-night-all-lisd-elementary-campuses/
LOCATION:Texas
CATEGORIES:Recruitment
ATTACH;FMTTYPE=image/png:https://www.crystalfallsgirlscouts.org/wp-content/uploads/2025/08/GS-logo.png
END:VEVENT
BEGIN:VEVENT
DTSTART;TZID=America/Chicago:20250818T183000
DTEND;TZID=America/Chicago:20250818T193000
DTSTAMP:20260423T203121
CREATED:20250812T190311Z
LAST-MODIFIED:20250812T192620Z
UID:10000223-1755541800-1755545400@www.crystalfallsgirlscouts.org
SUMMARY:Parent Info Meeting: Learn about GS & Join a Troop!
DESCRIPTION:Is your daughter ready to make new friends\, build confidence\, and explore a world of adventure and leadership opportunities? \n\n\n\nJoin us for an informational meeting where you’ll learn about all the amazing opportunities Girl Scouts has to offer – from camping and STEM\, to community service and cookie entrepreneurship! \n\n\n\nAll girls and kindergarten through 12th grade are welcomed. Troops will be forming this night so please register so we know to expect you and we will see you on the 18th!! \n\n\n\nParent Information Night Info Form: https://forms.gle/d9KCFxjvQ2pumZbH9  \n\n\n\nFacebook Event Event reminder: https://bit.ly/CFSUinfo
URL:https://www.crystalfallsgirlscouts.org/event/5981/
LOCATION:Life Church 1393 E Woodview Dr Leander\, TX\, United States\, Texas 78641\, Leander\, 78641
ATTACH;FMTTYPE=image/jpeg:https://www.crystalfallsgirlscouts.org/wp-content/uploads/2025/08/newleader.jpg
END:VEVENT
BEGIN:VEVENT
DTSTART;TZID=America/Chicago:20250825T183000
DTEND;TZID=America/Chicago:20250825T193000
DTSTAMP:20260423T203121
CREATED:20250818T213413Z
LAST-MODIFIED:20250825T221410Z
UID:10000228-1756146600-1756150200@www.crystalfallsgirlscouts.org
SUMMARY:CFSU Leader Meeting
DESCRIPTION:Come IN-PERSON or Online via our Zoom link: bit.ly/CFSUzoom \n\n\n\n\nJoin Zoom Meeting:bit.ly/CFSUzoom or\n\n\n\nhttps://us06web.zoom.us/j/9152571123?pwd=FvbW8yrz0mvfVGMhywhIXgybnK7XkB.1&omn=81272900766\n\n\n\nMeeting ID: 915 257 1123\n\n\n\nPasscode: CFSU<3\n\n\n\n\n \n\n\n\nRockPointe Church1070 Co Rd 177Leander\, Texas 78641
URL:https://www.crystalfallsgirlscouts.org/event/cfsu-leader-meeting/
LOCATION:RockPointe Church\, 1070 Co Rd 177\, Leander\, Texas\, 78641
END:VEVENT
END:VCALENDAR