BEGIN:VCALENDAR
VERSION:2.0
PRODID:-//Crystal Falls Service Unit - ECPv6.15.20//NONSGML v1.0//EN
CALSCALE:GREGORIAN
METHOD:PUBLISH
X-WR-CALNAME:Crystal Falls Service Unit
X-ORIGINAL-URL:https://www.crystalfallsgirlscouts.org
X-WR-CALDESC:Events for Crystal Falls Service Unit
REFRESH-INTERVAL;VALUE=DURATION:PT1H
X-Robots-Tag:noindex
X-PUBLISHED-TTL:PT1H
BEGIN:VTIMEZONE
TZID:America/Chicago
BEGIN:DAYLIGHT
TZOFFSETFROM:-0600
TZOFFSETTO:-0500
TZNAME:CDT
DTSTART:20240310T080000
END:DAYLIGHT
BEGIN:STANDARD
TZOFFSETFROM:-0500
TZOFFSETTO:-0600
TZNAME:CST
DTSTART:20241103T070000
END:STANDARD
BEGIN:DAYLIGHT
TZOFFSETFROM:-0600
TZOFFSETTO:-0500
TZNAME:CDT
DTSTART:20250309T080000
END:DAYLIGHT
BEGIN:STANDARD
TZOFFSETFROM:-0500
TZOFFSETTO:-0600
TZNAME:CST
DTSTART:20251102T070000
END:STANDARD
BEGIN:DAYLIGHT
TZOFFSETFROM:-0600
TZOFFSETTO:-0500
TZNAME:CDT
DTSTART:20260308T080000
END:DAYLIGHT
BEGIN:STANDARD
TZOFFSETFROM:-0500
TZOFFSETTO:-0600
TZNAME:CST
DTSTART:20261101T070000
END:STANDARD
END:VTIMEZONE
BEGIN:VEVENT
DTSTART;TZID=America/Chicago:20250302T143000
DTEND;TZID=America/Chicago:20250302T163000
DTSTAMP:20260424T035743
CREATED:20241107T202832Z
LAST-MODIFIED:20241122T233607Z
UID:10000203-1740925800-1740933000@www.crystalfallsgirlscouts.org
SUMMARY:2025 World Thinking Day
DESCRIPTION:This year’s World Thinking Day event is hosted by Troop 41003! \n\n\n\nClick here for more information about World Thinking Day. \n\n\n\nSelect a country\n\n\n\nRequest to represent a country \n\n\n\nWhat do you need to do to prepare for this event?\n\n\n\nGenerally\, each troop prepares a table display with a display board highlighting facts about the country selected. You can be as creative as you like but this board usually gives facts about Girl Scouts in the region\, foods\, historic landmarks\, etc. Each scout will receive a passport upon check-in so when she visits each country\, they will receive a stamp from that country. \n\n\n\nItems to bring\n\n\n\nFor those troops who are representing a country\, there are a few items that should be prepared. \n\n\n\n\nA stamp that represents something from that country. \n\n\n\nSomething that represents a taste of your country (normally this is a food from your country\, but does not have to be).\n\n\n\nA SWAP to give out at your country’s table (a final number of attendees will be provided after the February 16 deadline.\n\n\n\n\nFlags for borrowing\n\n\n\nThe Service Unit has a variety of country flags that can be borrowed for use during World Thinking Day. For more information\, contact Theresa Crump. \n\n\n\n\n\n\n\nCalendar Subscriptions\n\n\n\nMore information about World Thinking Day: \n\n\n\nhttps://www.wagggs.org/en/what-we-do/world-thinking-day/ \n\n\n\nRepresent a country: \n\n\n\nhttps://forms.gle/NjCMNXq1aXr6UkPP6
URL:https://www.crystalfallsgirlscouts.org/event/2025-world-thinking-day/
LOCATION:Life Church – Student Building\, 1393 E Woodview Drive\, Leander\, Texas\, 78641
ATTACH;FMTTYPE=image/jpeg:https://www.crystalfallsgirlscouts.org/wp-content/uploads/2022/07/world-thinking-day.jpeg
END:VEVENT
BEGIN:VEVENT
DTSTART;TZID=America/Chicago:20250303T190000
DTEND;TZID=America/Chicago:20250303T210000
DTSTAMP:20260424T035744
CREATED:20240725T173605Z
LAST-MODIFIED:20240806T012906Z
UID:10000159-1741028400-1741035600@www.crystalfallsgirlscouts.org
SUMMARY:Service Unit Monthly Leadership Meeting (March 2025)
DESCRIPTION:Each month\, the Service Unit Leadership Team meets to discuss important topics regarding the status of Service Unit tasks\, projects\, and events.
URL:https://www.crystalfallsgirlscouts.org/event/service-unit-monthly-leadership-meeting-march-2025/
LOCATION:Leander Trucking Company\, 1500 S. Bagdad Road\, Leander\, 78641
CATEGORIES:Service Unit Leadership Meetings
ATTACH;FMTTYPE=image/jpeg:https://www.crystalfallsgirlscouts.org/wp-content/uploads/2023/07/Leadership-meeting.jpg
ORGANIZER;CN="Crystal Falls Service Unit Director":MAILTO:crystalfallssud@gmail.com
END:VEVENT
BEGIN:VEVENT
DTSTART;TZID=America/Chicago:20250313T170000
DTEND;TZID=America/Chicago:20250313T183000
DTSTAMP:20260424T035744
CREATED:20250306T222045Z
LAST-MODIFIED:20250306T222051Z
UID:10000219-1741885200-1741890600@www.crystalfallsgirlscouts.org
SUMMARY:"We Survived Cookie Season" Happy Hour
DESCRIPTION:Join other leaders from the Crystal Falls Service Unit to celebrate the end of the Cookie Season! Engage in fellowship\, celebration\, and appetizers/drinks.  \n\n\n\nPlease note that this is an “on your own” event – each attendee is responsible for paying their own bill.
URL:https://www.crystalfallsgirlscouts.org/event/we-survived-cookie-season-happy-hour/
LOCATION:The Republic Kitchen & Bar\, 15609 Ronald Reagan Blvd A100\, Leander\, Texas\, 78641
CATEGORIES:Cookie Season
ATTACH;FMTTYPE=image/jpeg:https://www.crystalfallsgirlscouts.org/wp-content/uploads/2025/03/happy-hour.jpg
ORGANIZER;CN="Genail Marthol":MAILTO:gmarthol@gmail.com
END:VEVENT
BEGIN:VEVENT
DTSTART;TZID=America/Chicago:20250324T190000
DTEND;TZID=America/Chicago:20250324T200000
DTSTAMP:20260424T035744
CREATED:20240725T174123Z
LAST-MODIFIED:20240806T012456Z
UID:10000168-1742842800-1742846400@www.crystalfallsgirlscouts.org
SUMMARY:Monthly Leader Meeting (March 2025)
DESCRIPTION:Each month\, Troop leaders and Service Unit Leadership meetings to discuss various topics\, events\, and projects.
URL:https://www.crystalfallsgirlscouts.org/event/monthly-leader-meeting-march-2025/
LOCATION:Zoom (virtual)\, TX
CATEGORIES:Leader Meetings
ATTACH;FMTTYPE=image/jpeg:https://www.crystalfallsgirlscouts.org/wp-content/uploads/2022/07/leader-meeting.jpg
ORGANIZER;CN="Crystal Falls Service Unit Director":MAILTO:crystalfallssud@gmail.com
END:VEVENT
END:VCALENDAR