BEGIN:VCALENDAR
VERSION:2.0
PRODID:-//Crystal Falls Service Unit - ECPv6.15.20//NONSGML v1.0//EN
CALSCALE:GREGORIAN
METHOD:PUBLISH
X-ORIGINAL-URL:https://www.crystalfallsgirlscouts.org
X-WR-CALDESC:Events for Crystal Falls Service Unit
REFRESH-INTERVAL;VALUE=DURATION:PT1H
X-Robots-Tag:noindex
X-PUBLISHED-TTL:PT1H
BEGIN:VTIMEZONE
TZID:America/Chicago
BEGIN:DAYLIGHT
TZOFFSETFROM:-0600
TZOFFSETTO:-0500
TZNAME:CDT
DTSTART:20230312T080000
END:DAYLIGHT
BEGIN:STANDARD
TZOFFSETFROM:-0500
TZOFFSETTO:-0600
TZNAME:CST
DTSTART:20231105T070000
END:STANDARD
BEGIN:DAYLIGHT
TZOFFSETFROM:-0600
TZOFFSETTO:-0500
TZNAME:CDT
DTSTART:20240310T080000
END:DAYLIGHT
BEGIN:STANDARD
TZOFFSETFROM:-0500
TZOFFSETTO:-0600
TZNAME:CST
DTSTART:20241103T070000
END:STANDARD
BEGIN:DAYLIGHT
TZOFFSETFROM:-0600
TZOFFSETTO:-0500
TZNAME:CDT
DTSTART:20250309T080000
END:DAYLIGHT
BEGIN:STANDARD
TZOFFSETFROM:-0500
TZOFFSETTO:-0600
TZNAME:CST
DTSTART:20251102T070000
END:STANDARD
END:VTIMEZONE
BEGIN:VEVENT
DTSTART;TZID=America/Chicago:20241102T000000
DTEND;TZID=America/Chicago:20241102T235959
DTSTAMP:20260424T095954
CREATED:20240915T221707Z
LAST-MODIFIED:20240915T221711Z
UID:10000194-1730505600-1730591999@www.crystalfallsgirlscouts.org
SUMMARY:Opioid Overdose/Narcan Training
DESCRIPTION:Training for Troop Leaders & Leadership. More information TBD.
URL:https://www.crystalfallsgirlscouts.org/event/opioid-overdose-narcan-training/
LOCATION:Texas
ATTACH;FMTTYPE=image/jpeg:https://www.crystalfallsgirlscouts.org/wp-content/uploads/2024/09/narcan.jpg
END:VEVENT
BEGIN:VEVENT
DTSTART;TZID=America/Chicago:20241106T180000
DTEND;TZID=America/Chicago:20241106T200000
DTSTAMP:20260424T095954
CREATED:20241007T010202Z
LAST-MODIFIED:20241021T003115Z
UID:10000201-1730916000-1730923200@www.crystalfallsgirlscouts.org
SUMMARY:2025 Cookie Season TCC Training (in-person)
DESCRIPTION:Troop Cookie Coordinators are invited to attend a required training ahead of the 2025 cookie season. We will be reviewing the entire cookie program\, Cookie Captains\, the responsibilities of TCCs\, program support provided by the Service Unit throughout the season\, and upcoming deadlines. \n\n\n\nThis in-person event is required for all new Troop Cookie Coordinators and new Troops. Returning TCCs are welcome to attend this training if they would like. \n\n\n\nRegistration\n\n\n\nTCCs registered to attend this training in the initial troop registration form. To change your registration\, please contact the Cookie Team.
URL:https://www.crystalfallsgirlscouts.org/event/2025-cookie-season-tcc-training-in-person/
LOCATION:Texas
ATTACH;FMTTYPE=image/png:https://www.crystalfallsgirlscouts.org/wp-content/uploads/2022/09/girl-scout-cookies-e1672883941472.png
ORGANIZER;CN="Crystal Falls Cookie Manager":MAILTO:CFSUcookie@gmail.com
END:VEVENT
BEGIN:VEVENT
DTSTART;TZID=America/Chicago:20241116T133000
DTEND;TZID=America/Chicago:20241116T153000
DTSTAMP:20260424T095954
CREATED:20240915T222303Z
LAST-MODIFIED:20240915T222433Z
UID:10000195-1731763800-1731771000@www.crystalfallsgirlscouts.org
SUMMARY:Self Defense Class
DESCRIPTION:Learn the basics of self defense in this two-hour beginner class\, exclusively for Crystal Falls Service Unit Girl Scouts! This class is open to all levels of Girl Scouts\, daisies to adults! \n\n\n\nYour Sabomnim (Head Instructor) and Dojang Owner is Mrs. Wendy Justis. She is a 3rd Degree Black Belt and Certified Instructor. She is a mom of four who loves to teach\, motivate and inspire. She has a passion for TaeKwonDo and strongly believes in helping everyone find their own voice and self-confidence. \n\n\n\nNote: This is not a drop off event. You will need to ensure safety-wise numbers if you attend as a troop! Adults only need to pay if participating in the class – if attending as a safety-wise chaperone (observer only) there is no fee.  \n\n\n\nCost\n\n\n\nThe fee is $7 per person. This will cover the cost of the class\, a fun patch\, and a donation to the Girl Campaign. \n\n\n\nWhen we raise money for The Girl Campaign\, we support the Girl Scout houses\, camps run by the Girl Scouts of Central Texas\, as well as area scouts who need financial assistance.  \n\n\n\nRegistration\n\n\n\nClick here to register for the event \n\n\n\nThe deadline to register is November 9. \n\n\n\nCalendar Subscriptions\n\n\n\nRegistration link: \n\n\n\nhttps://docs.google.com/forms/d/e/1FAIpQLSe9j64w-Z-VKcKUsRzXI-Bxfk9QvJf4wt0mEgDcLAvlDO9gsA/viewform
URL:https://www.crystalfallsgirlscouts.org/event/self-defense-class-november-2024/
LOCATION:Cedar Park TaeKwonDo\, 702 S. Bell Blvd.\, Unit B\, Cedar Park\, Texas\, 78613\, United States
ATTACH;FMTTYPE=image/jpeg:https://www.crystalfallsgirlscouts.org/wp-content/uploads/2024/09/self-defense-class.jpg
ORGANIZER;CN="CFSU Girl Campaign Coordinator":MAILTO:CFSUgirlcampaign@gmail.com
END:VEVENT
BEGIN:VEVENT
DTSTART;TZID=America/Chicago:20241118T190000
DTEND;TZID=America/Chicago:20241118T200000
DTSTAMP:20260424T095954
CREATED:20240725T173927Z
LAST-MODIFIED:20240806T012342Z
UID:10000164-1731956400-1731960000@www.crystalfallsgirlscouts.org
SUMMARY:Monthly Leader Meeting (November 2024)
DESCRIPTION:Each month\, Troop leaders and Service Unit Leadership meetings to discuss various topics\, events\, and projects.
URL:https://www.crystalfallsgirlscouts.org/event/monthly-leader-meeting-november-2024/
LOCATION:Zoom (virtual)\, TX
CATEGORIES:Leader Meetings
ATTACH;FMTTYPE=image/jpeg:https://www.crystalfallsgirlscouts.org/wp-content/uploads/2022/07/leader-meeting.jpg
ORGANIZER;CN="Crystal Falls Service Unit Director":MAILTO:crystalfallssud@gmail.com
END:VEVENT
END:VCALENDAR