BEGIN:VCALENDAR
VERSION:2.0
PRODID:-//Crystal Falls Service Unit - ECPv6.15.20//NONSGML v1.0//EN
CALSCALE:GREGORIAN
METHOD:PUBLISH
X-ORIGINAL-URL:https://www.crystalfallsgirlscouts.org
X-WR-CALDESC:Events for Crystal Falls Service Unit
REFRESH-INTERVAL;VALUE=DURATION:PT1H
X-Robots-Tag:noindex
X-PUBLISHED-TTL:PT1H
BEGIN:VTIMEZONE
TZID:America/Chicago
BEGIN:DAYLIGHT
TZOFFSETFROM:-0600
TZOFFSETTO:-0500
TZNAME:CDT
DTSTART:20230312T080000
END:DAYLIGHT
BEGIN:STANDARD
TZOFFSETFROM:-0500
TZOFFSETTO:-0600
TZNAME:CST
DTSTART:20231105T070000
END:STANDARD
BEGIN:DAYLIGHT
TZOFFSETFROM:-0600
TZOFFSETTO:-0500
TZNAME:CDT
DTSTART:20240310T080000
END:DAYLIGHT
BEGIN:STANDARD
TZOFFSETFROM:-0500
TZOFFSETTO:-0600
TZNAME:CST
DTSTART:20241103T070000
END:STANDARD
BEGIN:DAYLIGHT
TZOFFSETFROM:-0600
TZOFFSETTO:-0500
TZNAME:CDT
DTSTART:20250309T080000
END:DAYLIGHT
BEGIN:STANDARD
TZOFFSETFROM:-0500
TZOFFSETTO:-0600
TZNAME:CST
DTSTART:20251102T070000
END:STANDARD
END:VTIMEZONE
BEGIN:VEVENT
DTSTART;TZID=America/Chicago:20240219T190000
DTEND;TZID=America/Chicago:20240219T200000
DTSTAMP:20260424T232644
CREATED:20230731T013756Z
LAST-MODIFIED:20231017T000953Z
UID:10000118-1708369200-1708372800@www.crystalfallsgirlscouts.org
SUMMARY:Monthly Leader Meeting
DESCRIPTION:Each month\, Troop leaders and Service Unit Leadership meetings to discuss various topics\, events\, and projects.
URL:https://www.crystalfallsgirlscouts.org/event/monthly-leader-meeting-15/
LOCATION:Zoom (virtual)\, TX
CATEGORIES:Leader Meetings
ATTACH;FMTTYPE=image/jpeg:https://www.crystalfallsgirlscouts.org/wp-content/uploads/2022/07/leader-meeting.jpg
ORGANIZER;CN="Crystal Falls Service Unit Director":MAILTO:crystalfallssud@gmail.com
END:VEVENT
BEGIN:VEVENT
DTSTART;TZID=America/Chicago:20240224T000000
DTEND;TZID=America/Chicago:20240224T235959
DTSTAMP:20260424T232644
CREATED:20231206T155915Z
LAST-MODIFIED:20231206T160301Z
UID:10000150-1708732800-1708819199@www.crystalfallsgirlscouts.org
SUMMARY:2024 Girl Day @ UT Austin
DESCRIPTION:Note: This event is not hosted or sponsored by Crystal Falls Service Unit. This event is listed as an opportunity for Girl Scouts to experience a day of STEM\, hosted by the University of Texas at Austin. \n\n\n\nMore information about this event can be found on the Girl Day website. \n\n\n\nElementary and middle school students\, families\, and educators are invited to join us for FREE hands-on science\, technology\, engineering\, and math (STEM) fun on Saturday\, February 24\, 2024\, from 11:30 a.m. til 4:00 p.m. CT on The University of Texas at Austin campus.  (Traduzca esta pagina.) \n\n\n\nUT Austin’s national award-winning STEM Girl Day recruitment program\, presented by Women in STEM (WiSTEM)\, gives K-8th graders a chance to explore STEM through grade-appropriate\, hands-on activities hosted by scientists\, engineers\, astronomers\, mathematicians and other STEM enthusiasts from student organizations\, research centers\, corporate partners and community organizations. All genders are welcome!
URL:https://www.crystalfallsgirlscouts.org/event/2024-girl-day-ut-austin/
LOCATION:Texas
ATTACH;FMTTYPE=image/jpeg:https://www.crystalfallsgirlscouts.org/wp-content/uploads/2023/12/48195742416_621eb69548_o.jpg
END:VEVENT
BEGIN:VEVENT
DTSTART;TZID=America/Chicago:20240225T140000
DTEND;TZID=America/Chicago:20240225T160000
DTSTAMP:20260424T232644
CREATED:20231206T155523Z
LAST-MODIFIED:20240219T025741Z
UID:10000149-1708869600-1708876800@www.crystalfallsgirlscouts.org
SUMMARY:2024 World Thinking Day
DESCRIPTION:This year’s World Thinking Day event is hosted by Troop 3456! \n\n\n\nClick here for more information about World Thinking Day. \n\n\n\nEvent schedule\n\n\n\nThe event schedule has been finalized and can be found here. \n\n\n\nCountries being represented:\n\n\n\n\n\n\nHungary\n\n\n\nGreece\n\n\n\nBrazil\n\n\n\nPhilippines\n\n\n\n\n\n\n\nCanada\n\n\n\nIreland\n\n\n\nSingapore\n\n\n\nAustralia\n\n\n\n\n\n\n\nFrance\n\n\n\nNew Zealand\n\n\n\nMexico\n\n\n\nNorway\n\n\n\n\n\n\nFood trucks\n\n\n\nThere are 2 food trucks participating in World Thinking Day\, Kona Ice and Sibils Ribs.  \n\n\n\nClick here to view the menu and costs for Kona Ice. \n\n\n\nThe menu for Sibils Ribs is not yet available. \n\n\n\nWhat do you need to do to prepare for this event?\n\n\n\nGenerally\, each troop prepares a table display with a display board highlighting facts about the country selected. You can be as creative as you like but this board usually gives facts about Girl Scouts in the region\, foods\, historic landmarks\, etc. Each scout will receive a passport upon check-in so when she visits each country\, they will receive a stamp from that country. \n\n\n\nItems to bring\n\n\n\nFor those troops who are representing a country\, there are a few items that should be prepared. \n\n\n\n\nA stamp that represents something from that country. \n\n\n\nSomething that represents a taste of your country (normally this is a food from your country\, but does not have to be).\n\n\n\nA SWAP to give out at your country’s table (a final number of attendees will be provided after the February 16 deadline.\n\n\n\n\nFlags for borrowing\n\n\n\nThe Service Unit has a variety of country flags that can be borrowed for use during World Thinking Day. For more information\, contact Theresa Crump. \n\n\n\n\n\n\n\nCalendar Subscriptions\n\n\n\nMore information about World Thinking Day: \n\n\n\nhttps://www.wagggs.org/en/what-we-do/world-thinking-day/ \n\n\n\nSchedule of events: \n\n\n\nhttps://docs.google.com/document/d/1Qxxl8O1rDXz8nkEoCsHNseFchX_9QlyGNRDBE-zD_Ug/edit?usp=sharing \n\n\n\nKona Ice menu: \n\n\n\nhttps://www.crystalfallsgirlscouts.org/wp-content/uploads/2024/02/World-Thinking-Day-Kona-Ice.pdf
URL:https://www.crystalfallsgirlscouts.org/event/2024-world-thinking-day/
LOCATION:RockPointe Church\, 1070 Co Rd 177\, Leander\, Texas\, 78641
ATTACH;FMTTYPE=image/jpeg:https://www.crystalfallsgirlscouts.org/wp-content/uploads/2022/07/world-thinking-day.jpeg
END:VEVENT
END:VCALENDAR