BEGIN:VCALENDAR
VERSION:2.0
PRODID:-//Crystal Falls Service Unit - ECPv6.15.20//NONSGML v1.0//EN
CALSCALE:GREGORIAN
METHOD:PUBLISH
X-WR-CALNAME:Crystal Falls Service Unit
X-ORIGINAL-URL:https://www.crystalfallsgirlscouts.org
X-WR-CALDESC:Events for Crystal Falls Service Unit
REFRESH-INTERVAL;VALUE=DURATION:PT1H
X-Robots-Tag:noindex
X-PUBLISHED-TTL:PT1H
BEGIN:VTIMEZONE
TZID:America/Chicago
BEGIN:DAYLIGHT
TZOFFSETFROM:-0600
TZOFFSETTO:-0500
TZNAME:CDT
DTSTART:20220313T080000
END:DAYLIGHT
BEGIN:STANDARD
TZOFFSETFROM:-0500
TZOFFSETTO:-0600
TZNAME:CST
DTSTART:20221106T070000
END:STANDARD
BEGIN:DAYLIGHT
TZOFFSETFROM:-0600
TZOFFSETTO:-0500
TZNAME:CDT
DTSTART:20230312T080000
END:DAYLIGHT
BEGIN:STANDARD
TZOFFSETFROM:-0500
TZOFFSETTO:-0600
TZNAME:CST
DTSTART:20231105T070000
END:STANDARD
BEGIN:DAYLIGHT
TZOFFSETFROM:-0600
TZOFFSETTO:-0500
TZNAME:CDT
DTSTART:20240310T080000
END:DAYLIGHT
BEGIN:STANDARD
TZOFFSETFROM:-0500
TZOFFSETTO:-0600
TZNAME:CST
DTSTART:20241103T070000
END:STANDARD
END:VTIMEZONE
BEGIN:VEVENT
DTSTART;TZID=America/Chicago:20230909T153000
DTEND;TZID=America/Chicago:20230910T080000
DTSTAMP:20260425T074516
CREATED:20230731T013159Z
LAST-MODIFIED:20230819T234132Z
UID:10000111-1694273400-1694332800@www.crystalfallsgirlscouts.org
SUMMARY:Girl Scout Lock-In
DESCRIPTION:Join the Crystal Falls Service Unit and celebrate a new year of Girl Scouts with a lock-in at Twin Lakes YMCA \n\n\n\nEvent Details\n\n\n\n\nBring your swimsuit and a towel.\n\n\n\nDinner and breakfast provided.\n\n\n\nBring your own sleeping bag & pillow and enjoy a night locked in with fellow sister scouts.\n\n\n\nArrive at 3:30pm – Doors will be locked until 8:00am Sunday morning.\n\n\n\n\nRegistration\n\n\n\nTo register for the lock-in\, fill out this registration form. \n\n\n\nCalendar Subscriptions\n\n\n\nRegistration link: \n\n\n\nhttps://docs.google.com/forms/d/e/1FAIpQLSdxDypo1z0GDsfa6nmgknARR4ikn_8R40F3M-mFv_bHOkhqLg/viewform
URL:https://www.crystalfallsgirlscouts.org/event/girl-scout-lock-in/
LOCATION:Twin Lakes YMCA\, 204 E Little Elm Trail\, Cedar Park\, Texas\, 78613
ATTACH;FMTTYPE=image/png:https://www.crystalfallsgirlscouts.org/wp-content/uploads/2023/07/Lock-in.png
END:VEVENT
BEGIN:VEVENT
DTSTART;TZID=America/Chicago:20230918T190000
DTEND;TZID=America/Chicago:20230918T200000
DTSTAMP:20260425T074516
CREATED:20230731T013600Z
LAST-MODIFIED:20230918T225447Z
UID:10000113-1695063600-1695067200@www.crystalfallsgirlscouts.org
SUMMARY:Monthly Leader Meeting
DESCRIPTION:Each month\, Troop leaders and Service Unit Leadership meetings to discuss various topics\, events\, and projects.  \n\n\n\nMeeting Agenda\n\n\n\nClick here to view the meeting agenda \n\n\n\nCalendar Subscriptions\n\n\n\nLink to meeting agenda:  \n\n\n\nhttps://docs.google.com/document/d/1yDxWdz1IUBnlQrQwsmEAXEblpLPOjWm768HQGxiR3LQ/edit?usp=sharing
URL:https://www.crystalfallsgirlscouts.org/event/monthly-leader-meeting-10/
LOCATION:Zoom (virtual)\, TX
CATEGORIES:Leader Meetings
ATTACH;FMTTYPE=image/jpeg:https://www.crystalfallsgirlscouts.org/wp-content/uploads/2022/07/leader-meeting.jpg
ORGANIZER;CN="Crystal Falls Service Unit Director":MAILTO:crystalfallssud@gmail.com
END:VEVENT
BEGIN:VEVENT
DTSTART;TZID=America/Chicago:20230923T120000
DTEND;TZID=America/Chicago:20230923T140000
DTSTAMP:20260425T074516
CREATED:20230810T010616Z
LAST-MODIFIED:20230923T160748Z
UID:10000138-1695470400-1695477600@www.crystalfallsgirlscouts.org
SUMMARY:STEAM Day 2023
DESCRIPTION:Join the Crystal Falls Service Unit in exploring all that STEAM has to offer! Girls will be able to visit tables hosted by groups of current Scouts for hands-on activities in the areas of Science\, Technology\, Engineering\, Art\, and Math. There will also be recruitment information available as well as a chance to sign-up your daughter to participate in Girl Scouts for the 2023-2024 program year! \n\n\n\nCost\n\n\n\n\nProspective Girl Scouts: No charge!\n\n\n\nCurrent Girl Scouts: $5 per girl\n\n\n\n\nYouth pre-registered will receive a STEAM Day patch. \n\n\n\nActivities\n\n\n\nMarshmallow Engineering (Hosted by Troop 22): Using mini marshmallows and toothpicks the girls will build 2D and 3D shapes. Girls can also build complex structures and towers! \n\n\n\nInstant Snow (Hosted by Troop 654): Dreaming of cooler weather? Join Troop 654 for a science experiment to make instant snow that will cool you down. \n\n\n\nStatic Electricity (Hosted by Crystal Falls Service Unit): Excite some electrons and learn about static electricity with a balloon and some confetti! \n\n\n\nAlka Seltzer Rockets (Hosted by Troop 78613): When Alka Seltzer tablets are dropped into water\, a chemical reaction takes place\, and bubbles of carbon dioxide gas are released.The gas builds up until there is enough pressure to blow the film canister lid off and propel it into the air. \n\n\n\nDry Ice Special Effects (Hosted by Crystal Falls Service Unit): Discover how you can make some “cool” (pun intended!) special effects for Halloween with dry ice! You’ll see it steam when you add water and then use soap to create smoke-filled bubbles. \n\n\n\nDensity Column Experiment (Hosted by Crystal Falls Service Unit): Stack different liquids with different densities in a tall Glass to visually demonstrate how densities allow objects to sink or float. \n\n\n\nCatapults Away! (Hosted by Crystal Falls Service Unit): Explore how physics and engineering plays a role in the creation of a catapult. Build your own and launch balls at a target to test out your skills! \n\n\n\nDoes Fast Air Mean High Pressure? (Hosted by Crystal Falls Service Unit): Learn about the principles of flight and aerodynamics – make a prediction and see if you’re right! \n\n\n\nPaper Snowflakes (Hosted by Troop 654): Cut and decorate a paper snowflake to prepare for cooler days! \n\n\n\nOptical Illusion Spinners (Hosted by Troop 3456): Create a design on your spinner and observe how the motion changes your shape and color. \n\n\n\nWatercolor Bats (Hosted by Troop 7890): Decorate your bat’s wings and see how the colors and design change when we add water. \n\n\n\nFor calendar subscriptions\n\n\n\nLink to host a STEAM activity: \n\n\n\nhttps://www.crystalfallsgirlscouts.org/host-a-stem-activity/ \n\n\n\nLink to RSVP to attend: \n\n\n\nhttps://www.crystalfallsgirlscouts.org/attend-steam-event/
URL:https://www.crystalfallsgirlscouts.org/event/steam-day-2023/
LOCATION:RockPointe Church\, 1070 Co Rd 177\, Leander\, Texas\, 78641
CATEGORIES:Recruitment
ATTACH;FMTTYPE=image/jpeg:https://www.crystalfallsgirlscouts.org/wp-content/uploads/2023/07/Steam-e1691427432617.jpg
ORGANIZER;CN="CFSU Recruitment Coordinator":MAILTO:cfsurecruitment@gmail.com
END:VEVENT
BEGIN:VEVENT
DTSTART;TZID=America/Chicago:20230925T193000
DTEND;TZID=America/Chicago:20230925T203000
DTSTAMP:20260425T074516
CREATED:20230821T221510Z
LAST-MODIFIED:20230918T230615Z
UID:10000140-1695670200-1695673800@www.crystalfallsgirlscouts.org
SUMMARY:Parent Recruitment Meeting
DESCRIPTION:Join the Service Unit Director and Recruitment Coordinator for a virtual discussion about what it means to be an adult Girl Scout. Bring any questions that you have! \n\n\n\nRegistration \n\n\n\nComplete the form below to secure your spot to attend the parent recruitment meeting! \n\n\n\n\n\n  \n\n\n\n First name\n \n Last name\n \n \n Your email\n \n \nYour girl's year in school:\n—Please choose an option—K1st grade2nd grade3rd grade4th grade5th grade6th grade7th grade8th grade9th grade10th grade11th grade12th grade\n \nYour girl's school:\n—Please choose an option—Akin ElementaryBagdad ElementaryBlock House Creek ElementaryCamacho ElementaryCox ElementaryCypress ElementaryDeer Creek ElementaryFaubion ElementaryGiddens ElementaryGrandview Hills ElementaryKnowles ElementaryLarkspur ElementaryLaura Welch Bush ElementaryMason ElementaryNaumann ElementaryNorth ElementaryParkside ElementaryPlain ElementaryPleasant Hill ElementaryReagan ElementaryReed ElementaryRiver Place ElementaryRiver Ridge ElementaryRutledge ElementarySteiner Ranch ElementaryTarvin ElementaryWestside ElementaryWhiltestone ElementaryWinkley ElementaryHomeschool\n \nOther school:\n\n \n\n \n\n\n\n\n\n\nLink to Join the Meeting\n\n\n\nClick here to join the meeting!
URL:https://www.crystalfallsgirlscouts.org/event/parent-recruitment-meeting-2/
LOCATION:Zoom (virtual)\, TX
CATEGORIES:Recruitment
ATTACH;FMTTYPE=image/jpeg:https://www.crystalfallsgirlscouts.org/wp-content/uploads/2023/08/parent-meeting.jpg
ORGANIZER;CN="CFSU Recruitment Coordinator":MAILTO:cfsurecruitment@gmail.com
END:VEVENT
END:VCALENDAR