BEGIN:VCALENDAR
VERSION:2.0
PRODID:-//Crystal Falls Service Unit - ECPv6.15.20//NONSGML v1.0//EN
CALSCALE:GREGORIAN
METHOD:PUBLISH
X-ORIGINAL-URL:https://www.crystalfallsgirlscouts.org
X-WR-CALDESC:Events for Crystal Falls Service Unit
REFRESH-INTERVAL;VALUE=DURATION:PT1H
X-Robots-Tag:noindex
X-PUBLISHED-TTL:PT1H
BEGIN:VTIMEZONE
TZID:America/Chicago
BEGIN:DAYLIGHT
TZOFFSETFROM:-0600
TZOFFSETTO:-0500
TZNAME:CDT
DTSTART:20220313T080000
END:DAYLIGHT
BEGIN:STANDARD
TZOFFSETFROM:-0500
TZOFFSETTO:-0600
TZNAME:CST
DTSTART:20221106T070000
END:STANDARD
BEGIN:DAYLIGHT
TZOFFSETFROM:-0600
TZOFFSETTO:-0500
TZNAME:CDT
DTSTART:20230312T080000
END:DAYLIGHT
BEGIN:STANDARD
TZOFFSETFROM:-0500
TZOFFSETTO:-0600
TZNAME:CST
DTSTART:20231105T070000
END:STANDARD
BEGIN:DAYLIGHT
TZOFFSETFROM:-0600
TZOFFSETTO:-0500
TZNAME:CDT
DTSTART:20240310T080000
END:DAYLIGHT
BEGIN:STANDARD
TZOFFSETFROM:-0500
TZOFFSETTO:-0600
TZNAME:CST
DTSTART:20241103T070000
END:STANDARD
END:VTIMEZONE
BEGIN:VEVENT
DTSTART;TZID=America/Chicago:20230708T000000
DTEND;TZID=America/Chicago:20230708T235959
DTSTAMP:20260425T105115
CREATED:20230405T003936Z
LAST-MODIFIED:20230405T004032Z
UID:10000096-1688774400-1688860799@www.crystalfallsgirlscouts.org
SUMMARY:Volunteer Enrichment Conference (VEC)
DESCRIPTION:The Volunteer Enrichment Conference (VEC) is an annual workshop\, providing adults with valuable training to succeed in their roles as Troop Leaders and volunteers. This event is hosted by Girl Scouts of Central Texas. \n\n\n\nMore information and registration for VEC can be found here. \n\n\n\nLink for calendar subscriptions: \n\n\n\nhttps://www.gsctx.org/en/sf-events-repository/2023/volunteer-enrichment-conference-and-annual-meeting–adults–7-8-.html
URL:https://www.crystalfallsgirlscouts.org/event/volunteer-enrichment-conference-vec/
LOCATION:Mayborn Convention Center\, 3303 N 3rd St\, Temple\, Texas\, 76501
ATTACH;FMTTYPE=image/png:https://www.crystalfallsgirlscouts.org/wp-content/uploads/2023/04/volunteer.png
END:VEVENT
BEGIN:VEVENT
DTSTART;TZID=America/Chicago:20230729T100000
DTEND;TZID=America/Chicago:20230729T170000
DTSTAMP:20260425T105115
CREATED:20230318T181008Z
LAST-MODIFIED:20230713T145131Z
UID:10000094-1690624800-1690650000@www.crystalfallsgirlscouts.org
SUMMARY:2023 Annual Leader Retreat
DESCRIPTION:The annual leadership retreat is intended to strengthen bonds between troop leadership across the service unit and to help leaders gain new perspectives and information that can help them be stronger leaders. \n\n\n\nRegister here: https://forms.gle/nbcMXgA3tqFjXd4e9 \n\n\n\nThe plans include activities that you could easily convert into activities for your girls\, roundtable discussions on topics you all surface\, and free massages as a thank-you for all you do for scouts! \n\n\n\nThe only charge is a request for $5 towards lunch\, and dinner is self-pay.
URL:https://www.crystalfallsgirlscouts.org/event/2023-annual-leader-retreat/
LOCATION:Georgetown Girl Scout House\, 1511 Laurel Street\, Georgetown\, Texas\, 78626\, United States
CATEGORIES:Leader Meetings
ATTACH;FMTTYPE=image/jpeg:https://www.crystalfallsgirlscouts.org/wp-content/uploads/2022/06/retreat-scaled.jpeg
ORGANIZER;CN="Crystal Falls Service Unit Director":MAILTO:crystalfallssud@gmail.com
END:VEVENT
BEGIN:VEVENT
DTSTART;TZID=America/Chicago:20230730T124500
DTEND;TZID=America/Chicago:20230730T144500
DTSTAMP:20260425T105115
CREATED:20230617T144520Z
LAST-MODIFIED:20230617T145715Z
UID:10000103-1690721100-1690728300@www.crystalfallsgirlscouts.org
SUMMARY:Ice Skating With Girl Scouts
DESCRIPTION:If your daughter has expressed an interest in joining Girl Scouts – here’s your chance! Come skate with the Crystal Falls Service Unit and learn more about the scouting experience. \n\n\n\nCost\n\n\n\n\nProspective Scouts can skate for free.\n\n\n\nCurrent Girl Scouts who bring an interested friend can skate for free.\n\n\n\nAll other current Girl Scouts can skate for $10 each. (Price includes a fun patch!)\n\n\n\n\nRegister\n\n\n\nTo register for this event\, complete this Google Form.
URL:https://www.crystalfallsgirlscouts.org/event/ice-skating-with-girl-scouts/
LOCATION:The Crossover\, 1717 Scottsdale Drive\, Suite 100\, Cedar Park\, Texas\, 78613
CATEGORIES:Recruitment
ATTACH;FMTTYPE=image/jpeg:https://www.crystalfallsgirlscouts.org/wp-content/uploads/2023/06/ice-skating.jpg
END:VEVENT
END:VCALENDAR