BEGIN:VCALENDAR
VERSION:2.0
PRODID:-//Crystal Falls Service Unit - ECPv6.15.20//NONSGML v1.0//EN
CALSCALE:GREGORIAN
METHOD:PUBLISH
X-ORIGINAL-URL:https://www.crystalfallsgirlscouts.org
X-WR-CALDESC:Events for Crystal Falls Service Unit
REFRESH-INTERVAL;VALUE=DURATION:PT1H
X-Robots-Tag:noindex
X-PUBLISHED-TTL:PT1H
BEGIN:VTIMEZONE
TZID:America/Chicago
BEGIN:DAYLIGHT
TZOFFSETFROM:-0600
TZOFFSETTO:-0500
TZNAME:CDT
DTSTART:20220313T080000
END:DAYLIGHT
BEGIN:STANDARD
TZOFFSETFROM:-0500
TZOFFSETTO:-0600
TZNAME:CST
DTSTART:20221106T070000
END:STANDARD
BEGIN:DAYLIGHT
TZOFFSETFROM:-0600
TZOFFSETTO:-0500
TZNAME:CDT
DTSTART:20230312T080000
END:DAYLIGHT
BEGIN:STANDARD
TZOFFSETFROM:-0500
TZOFFSETTO:-0600
TZNAME:CST
DTSTART:20231105T070000
END:STANDARD
BEGIN:DAYLIGHT
TZOFFSETFROM:-0600
TZOFFSETTO:-0500
TZNAME:CDT
DTSTART:20240310T080000
END:DAYLIGHT
BEGIN:STANDARD
TZOFFSETFROM:-0500
TZOFFSETTO:-0600
TZNAME:CST
DTSTART:20241103T070000
END:STANDARD
END:VTIMEZONE
BEGIN:VEVENT
DTSTART;TZID=America/Chicago:20230502T190000
DTEND;TZID=America/Chicago:20230502T210000
DTSTAMP:20260425T133607
CREATED:20220705T210513Z
LAST-MODIFIED:20230306T153034Z
UID:10000048-1683054000-1683061200@www.crystalfallsgirlscouts.org
SUMMARY:Service Team Meeting
DESCRIPTION:The Service Team is an internal team within the Service Unit Leadership.
URL:https://www.crystalfallsgirlscouts.org/event/service-team-meeting/2023-05-02/
LOCATION:Zoom (virtual)\, TX
ATTACH;FMTTYPE=image/jpeg:https://www.crystalfallsgirlscouts.org/wp-content/uploads/2022/07/service-team.jpg
ORGANIZER;CN="Crystal Falls Service Unit Director":MAILTO:crystalfallssud@gmail.com
END:VEVENT
BEGIN:VEVENT
DTSTART;TZID=America/Chicago:20230506T000000
DTEND;TZID=America/Chicago:20230506T235959
DTSTAMP:20260425T133607
CREATED:20230104T201643Z
LAST-MODIFIED:20230104T201648Z
UID:10000088-1683331200-1683417599@www.crystalfallsgirlscouts.org
SUMMARY:Junior Amuse Journey in a Day
DESCRIPTION:Get your girl one step closer to her Summit Award with a Journey in a Day\, hosted by the older Girl Scouts in our service unit. The girls will be planning this event\, so details will be finalized as we get closer to the event itself. There will be a price\, to cover the cost of the event and to add something for the GIRL Campaign. \n\n\n\nRegistration form coming in March.
URL:https://www.crystalfallsgirlscouts.org/event/junior-amuse-journey-in-a-day/
LOCATION:Texas
ATTACH;FMTTYPE=image/png:https://www.crystalfallsgirlscouts.org/wp-content/uploads/2022/07/badge-day.png
END:VEVENT
BEGIN:VEVENT
DTSTART;TZID=America/Chicago:20230516T190000
DTEND;TZID=America/Chicago:20230516T200000
DTSTAMP:20260425T133607
CREATED:20230515T174923Z
LAST-MODIFIED:20230515T174928Z
UID:10000100-1684263600-1684267200@www.crystalfallsgirlscouts.org
SUMMARY:Monthly Leader Meeting
DESCRIPTION:Each month\, Troop leaders and Service Unit Leadership meetings to discuss various topics\, events\, and projects.  \n\n\n\nClick here to view the meeting agenda. \n\n\n\nLink for calendar subscriptions: \n\n\n\nhttps://docs.google.com/document/d/1n5AYyHM7O9cmsZ4gl2gc21qpEUXIhm5bybTMB7m2yBg/edit?usp=sharing
URL:https://www.crystalfallsgirlscouts.org/event/monthly-leader-meeting-7/
LOCATION:Zoom (virtual)\, TX
CATEGORIES:Leader Meetings
ATTACH;FMTTYPE=image/jpeg:https://www.crystalfallsgirlscouts.org/wp-content/uploads/2022/07/leader-meeting.jpg
ORGANIZER;CN="Crystal Falls Service Unit Director":MAILTO:crystalfallssud@gmail.com
END:VEVENT
END:VCALENDAR