BEGIN:VCALENDAR
VERSION:2.0
PRODID:-//Crystal Falls Service Unit - ECPv6.15.20//NONSGML v1.0//EN
CALSCALE:GREGORIAN
METHOD:PUBLISH
X-ORIGINAL-URL:https://www.crystalfallsgirlscouts.org
X-WR-CALDESC:Events for Crystal Falls Service Unit
REFRESH-INTERVAL;VALUE=DURATION:PT1H
X-Robots-Tag:noindex
X-PUBLISHED-TTL:PT1H
BEGIN:VTIMEZONE
TZID:America/Chicago
BEGIN:DAYLIGHT
TZOFFSETFROM:-0600
TZOFFSETTO:-0500
TZNAME:CDT
DTSTART:20220313T080000
END:DAYLIGHT
BEGIN:STANDARD
TZOFFSETFROM:-0500
TZOFFSETTO:-0600
TZNAME:CST
DTSTART:20221106T070000
END:STANDARD
BEGIN:DAYLIGHT
TZOFFSETFROM:-0600
TZOFFSETTO:-0500
TZNAME:CDT
DTSTART:20230312T080000
END:DAYLIGHT
BEGIN:STANDARD
TZOFFSETFROM:-0500
TZOFFSETTO:-0600
TZNAME:CST
DTSTART:20231105T070000
END:STANDARD
BEGIN:DAYLIGHT
TZOFFSETFROM:-0600
TZOFFSETTO:-0500
TZNAME:CDT
DTSTART:20240310T080000
END:DAYLIGHT
BEGIN:STANDARD
TZOFFSETFROM:-0500
TZOFFSETTO:-0600
TZNAME:CST
DTSTART:20241103T070000
END:STANDARD
END:VTIMEZONE
BEGIN:VEVENT
DTSTART;TZID=America/Chicago:20230402T110000
DTEND;TZID=America/Chicago:20230402T130000
DTSTAMP:20260425T151407
CREATED:20221114T221438Z
LAST-MODIFIED:20230321T232836Z
UID:10000081-1680433200-1680440400@www.crystalfallsgirlscouts.org
SUMMARY:Teddy Bear Tea Party
DESCRIPTION:Bring your favorite Teddy Bear and come enjoy a mid-morning Tea Party & fun activities with your Girl Scouts!  \n\n\n\nMenu includes: Fruit teas\, an assortment of finger sandwiches\, scones\, cookies\, & pastries. \n\n\n\nCost: $10 per girl (+$2 for a fun patch)Payment can be made via Venmo to @Genail_Marthol \n\n\n\nTo register: Email gmarthol@gmail.com no later than March 29. \n\n\n\nAll proceeds benefit Troop 2559 International travel to Italy & Greece in Summer 2025! Donations are welcomed!  \n\n\n\nThank you for your support! 
URL:https://www.crystalfallsgirlscouts.org/event/teddy-bear-tea-party/
LOCATION:Robin Bledsoe Park\, 601 S Bagdad Road\, Leander\, Texas\, 78641
ATTACH;FMTTYPE=image/jpeg:https://www.crystalfallsgirlscouts.org/wp-content/uploads/2022/11/teddy-bear-tea-party-scaled-e1672884110214.jpg
END:VEVENT
BEGIN:VEVENT
DTSTART;TZID=America/Chicago:20230415T110000
DTEND;TZID=America/Chicago:20230415T140000
DTSTAMP:20260425T151407
CREATED:20230303T200507Z
LAST-MODIFIED:20230303T221829Z
UID:10000092-1681556400-1681567200@www.crystalfallsgirlscouts.org
SUMMARY:Spring Festival
DESCRIPTION:Stop by the Spring Carnival at North Elementary. The Crystal Falls Service Unit is hosting a recruitment table with STEM activities for the kids. Learn about Girl Scouts\, have some fun\, and enjoy the activities and food trucks! \n\n\n\nFor those Troop leaders and volunteers interested in staffing our recruitment table or volunteering with the North PTA\, click here to sign up. \n\n\n\nSign-up link (for calendar subscriptions): \n\n\n\nhttps://www.signupgenius.com/go/10c0e4aacaf29a6f9c52-2023#/
URL:https://www.crystalfallsgirlscouts.org/event/spring-festival-north/
LOCATION:North Elementary School\, 1840 Pleasant Hill Drive\, Leander\, Texas\, 78641
CATEGORIES:Recruitment
ATTACH;FMTTYPE=image/jpeg:https://www.crystalfallsgirlscouts.org/wp-content/uploads/2023/03/Spring-Carnival-e1677873071283.jpg
ORGANIZER;CN="CFSU Recruitment Coordinator":MAILTO:cfsurecruitment@gmail.com
END:VEVENT
BEGIN:VEVENT
DTSTART;TZID=America/Chicago:20230418T180000
DTEND;TZID=America/Chicago:20230418T200000
DTSTAMP:20260425T151407
CREATED:20220705T211202Z
LAST-MODIFIED:20230416T182924Z
UID:10000061-1681840800-1681848000@www.crystalfallsgirlscouts.org
SUMMARY:Monthly Leader Meeting
DESCRIPTION:As the school year comes to an end\, join fellow Troop Leaders and Services Unit Leadership for an in-person social event during our monthly leader meeting.
URL:https://www.crystalfallsgirlscouts.org/event/monthly-leader-meeting-2023-04-18/
LOCATION:Blue Corn Harvest\, 11840 Hero Way W Bldg A\, Leander\, 78641
CATEGORIES:Leader Meetings
ATTACH;FMTTYPE=image/jpeg:https://www.crystalfallsgirlscouts.org/wp-content/uploads/2022/07/leader-meeting.jpg
ORGANIZER;CN="Crystal Falls Service Unit Director":MAILTO:crystalfallssud@gmail.com
END:VEVENT
BEGIN:VEVENT
DTSTART;TZID=America/Chicago:20230428T000000
DTEND;TZID=America/Chicago:20230430T235959
DTSTAMP:20260425T151407
CREATED:20220705T213720Z
LAST-MODIFIED:20220706T005937Z
UID:10000068-1682640000-1682899199@www.crystalfallsgirlscouts.org
SUMMARY:Spring Campout
DESCRIPTION:Join CFSU troops at our Spring Campout! More information will be available at a later date.
URL:https://www.crystalfallsgirlscouts.org/event/spring-campout/
LOCATION:Camp Kachina\, 14750 Camp Kachina Rd\, Belton\, Texas\, 76513\, United States
ATTACH;FMTTYPE=image/jpeg:https://www.crystalfallsgirlscouts.org/wp-content/uploads/2022/07/camping.jpeg
ORGANIZER;CN="Crystal Falls Service Unit Director":MAILTO:crystalfallssud@gmail.com
END:VEVENT
END:VCALENDAR