BEGIN:VCALENDAR
VERSION:2.0
PRODID:-//Crystal Falls Service Unit - ECPv6.15.20//NONSGML v1.0//EN
CALSCALE:GREGORIAN
METHOD:PUBLISH
X-WR-CALNAME:Crystal Falls Service Unit
X-ORIGINAL-URL:https://www.crystalfallsgirlscouts.org
X-WR-CALDESC:Events for Crystal Falls Service Unit
REFRESH-INTERVAL;VALUE=DURATION:PT1H
X-Robots-Tag:noindex
X-PUBLISHED-TTL:PT1H
BEGIN:VTIMEZONE
TZID:America/Chicago
BEGIN:DAYLIGHT
TZOFFSETFROM:-0600
TZOFFSETTO:-0500
TZNAME:CDT
DTSTART:20220313T080000
END:DAYLIGHT
BEGIN:STANDARD
TZOFFSETFROM:-0500
TZOFFSETTO:-0600
TZNAME:CST
DTSTART:20221106T070000
END:STANDARD
BEGIN:DAYLIGHT
TZOFFSETFROM:-0600
TZOFFSETTO:-0500
TZNAME:CDT
DTSTART:20230312T080000
END:DAYLIGHT
BEGIN:STANDARD
TZOFFSETFROM:-0500
TZOFFSETTO:-0600
TZNAME:CST
DTSTART:20231105T070000
END:STANDARD
BEGIN:DAYLIGHT
TZOFFSETFROM:-0600
TZOFFSETTO:-0500
TZNAME:CDT
DTSTART:20240310T080000
END:DAYLIGHT
BEGIN:STANDARD
TZOFFSETFROM:-0500
TZOFFSETTO:-0600
TZNAME:CST
DTSTART:20241103T070000
END:STANDARD
END:VTIMEZONE
BEGIN:VEVENT
DTSTART;TZID=America/Chicago:20230307T190000
DTEND;TZID=America/Chicago:20230307T210000
DTSTAMP:20260425T163225
CREATED:20220705T210513Z
LAST-MODIFIED:20230306T153034Z
UID:10000047-1678215600-1678222800@www.crystalfallsgirlscouts.org
SUMMARY:Service Team Meeting
DESCRIPTION:The Service Team is an internal team within the Service Unit Leadership.
URL:https://www.crystalfallsgirlscouts.org/event/service-team-meeting/2023-03-07/
LOCATION:Zoom (virtual)\, TX
ATTACH;FMTTYPE=image/jpeg:https://www.crystalfallsgirlscouts.org/wp-content/uploads/2022/07/service-team.jpg
ORGANIZER;CN="Crystal Falls Service Unit Director":MAILTO:crystalfallssud@gmail.com
END:VEVENT
BEGIN:VEVENT
DTSTART;TZID=America/Chicago:20230321T190000
DTEND;TZID=America/Chicago:20230321T200000
DTSTAMP:20260425T163225
CREATED:20230318T181202Z
LAST-MODIFIED:20230318T181207Z
UID:10000095-1679425200-1679428800@www.crystalfallsgirlscouts.org
SUMMARY:Monthly Leader Meeting
DESCRIPTION:Each month\, Troop leaders and Service Unit Leadership meetings to discuss various topics\, events\, and projects.  \n\n\n\nClick here to view the meeting agenda. \n\n\n\nLink for calendar subscriptions: \n\n\n\nhttps://docs.google.com/document/d/109TUhN5YO8PvrirFg8f0SGWAYAeh0stu9CtBrShKtGA/edit?usp=sharing
URL:https://www.crystalfallsgirlscouts.org/event/monthly-leader-meeting-6/
LOCATION:Texas
CATEGORIES:Leader Meetings
ATTACH;FMTTYPE=image/jpeg:https://www.crystalfallsgirlscouts.org/wp-content/uploads/2022/07/leader-meeting.jpg
ORGANIZER;CN="Crystal Falls Service Unit Director":MAILTO:crystalfallssud@gmail.com
END:VEVENT
BEGIN:VEVENT
DTSTART;TZID=America/Chicago:20230324T170000
DTEND;TZID=America/Chicago:20230324T190000
DTSTAMP:20260425T163225
CREATED:20220921T002343Z
LAST-MODIFIED:20230318T180841Z
UID:10000076-1679677200-1679684400@www.crystalfallsgirlscouts.org
SUMMARY:Adult Social Event
DESCRIPTION:Join other Troop leaders for a social event. This event is for adults only; no need to stay the entire time – feel free to come and go as you please!
URL:https://www.crystalfallsgirlscouts.org/event/adult-social-event-3/
LOCATION:Texas
ATTACH;FMTTYPE=image/jpeg:https://www.crystalfallsgirlscouts.org/wp-content/uploads/2022/09/adult-social.jpg
END:VEVENT
BEGIN:VEVENT
DTSTART;TZID=America/Chicago:20230324T170000
DTEND;TZID=America/Chicago:20230324T190000
DTSTAMP:20260425T163225
CREATED:20230303T221532Z
LAST-MODIFIED:20230323T151732Z
UID:10000093-1679677200-1679684400@www.crystalfallsgirlscouts.org
SUMMARY:Spring Festival
DESCRIPTION:Stop by Tarvinpalooza at Tarvin Elementary. The Crystal Falls Service Unit is hosting a recruitment table with STEM activities for the kids. Learn about Girl Scouts\, have some fun\, and enjoy the activities and food trucks! \n\n\n\n\n\n\n\nFor those Troop leaders and volunteers interested in staffing our recruitment table or volunteering with the Tarvin PTA\, click here to sign up. \n\n\n\nSign-up link (for calendar subscriptions): \n\n\n\nhttps://www.signupgenius.com/go/10c0e4aacaf29a6f9c52-2023#/
URL:https://www.crystalfallsgirlscouts.org/event/spring-festival/
LOCATION:Tarvin Elementary School\, 1280 Logan Del Way\, Leander\, Texas\, 78641
CATEGORIES:Recruitment
ATTACH;FMTTYPE=image/jpeg:https://www.crystalfallsgirlscouts.org/wp-content/uploads/2023/03/Spring-Carnival-e1677873071283.jpg
ORGANIZER;CN="CFSU Recruitment Coordinator":MAILTO:cfsurecruitment@gmail.com
END:VEVENT
BEGIN:VEVENT
DTSTART;TZID=America/Chicago:20230325T180000
DTEND;TZID=America/Chicago:20230325T210000
DTSTAMP:20260425T163225
CREATED:20220705T213353Z
LAST-MODIFIED:20230117T172334Z
UID:10000067-1679767200-1679778000@www.crystalfallsgirlscouts.org
SUMMARY:50's Sock Hop She and He Dance
DESCRIPTION:The Service Unit’s daddy/daughter dance! More information will be available at a later date. \n\n\n\nFor older girls looking to earn Service Hours by helping with this event\, review the Service Opportunities page.
URL:https://www.crystalfallsgirlscouts.org/event/she-and-he-dance/
LOCATION:RockPointe Church\, 1070 Co Rd 177\, Leander\, Texas\, 78641
ATTACH;FMTTYPE=image/png:https://www.crystalfallsgirlscouts.org/wp-content/uploads/2023/01/He-She-Dance-logo-e1673976079146.png
ORGANIZER;CN="Crystal Falls Service Unit Director":MAILTO:crystalfallssud@gmail.com
END:VEVENT
BEGIN:VEVENT
DTSTART;TZID=America/Chicago:20230331T170000
DTEND;TZID=America/Chicago:20230331T193000
DTSTAMP:20260425T163225
CREATED:20230303T195312Z
LAST-MODIFIED:20230306T152625Z
UID:10000090-1680282000-1680291000@www.crystalfallsgirlscouts.org
SUMMARY:Spring Festival
DESCRIPTION:Stop by the Spring Carnival at Whitestone Elementary. The Crystal Falls Service Unit is hosting a recruitment table with STEM activities for the kids. Learn about Girl Scouts\, have some fun\, and enjoy the activities and food trucks! \n\n\n\nFor those Troop leaders and volunteers interested in staffing our recruitment table\, click here to sign up.  \n\n\n\nSign up link (for calendar subscriptions): \n\n\n\nhttps://www.signupgenius.com/go/10c0e4aacaf29a6f9c52-2023#/
URL:https://www.crystalfallsgirlscouts.org/event/spring-festival-whitestone/
LOCATION:Whitestone Elementary School\, 2000 Crystal Falls Pkwy\, Leander\, Texas\, 78641
CATEGORIES:Recruitment
ATTACH;FMTTYPE=image/jpeg:https://www.crystalfallsgirlscouts.org/wp-content/uploads/2023/03/Spring-Carnival-e1677873071283.jpg
ORGANIZER;CN="CFSU Recruitment Coordinator":MAILTO:cfsurecruitment@gmail.com
END:VEVENT
BEGIN:VEVENT
DTSTART;TZID=America/Chicago:20230331T173000
DTEND;TZID=America/Chicago:20230331T193000
DTSTAMP:20260425T163225
CREATED:20230303T195838Z
LAST-MODIFIED:20230303T213533Z
UID:10000091-1680283800-1680291000@www.crystalfallsgirlscouts.org
SUMMARY:Spring Festival
DESCRIPTION:Stop by the Spring Carnival at Knowles Elementary. The Crystal Falls Service Unit is hosting a recruitment table with STEM activities for the kids. Learn about Girl Scouts\, have some fun\, and enjoy the activities and food trucks! \n\n\n\nFor those Troop leaders and volunteers interested in staffing our recruitment table\, click here to sign up. \n\n\n\nSign-up link (for calendar subscriptions): \n\n\n\nhttps://www.signupgenius.com/go/10c0e4aacaf29a6f9c52-2023#/
URL:https://www.crystalfallsgirlscouts.org/event/spring-festival-knowles/
LOCATION:Knowles Elementary School\, 2101 Cougar Country Drive\, Leander\, Texas\, 78641
CATEGORIES:Recruitment
ATTACH;FMTTYPE=image/jpeg:https://www.crystalfallsgirlscouts.org/wp-content/uploads/2023/03/Spring-Carnival-e1677873071283.jpg
ORGANIZER;CN="CFSU Recruitment Coordinator":MAILTO:cfsurecruitment@gmail.com
END:VEVENT
END:VCALENDAR