BEGIN:VCALENDAR
VERSION:2.0
PRODID:-//Crystal Falls Service Unit - ECPv6.15.20//NONSGML v1.0//EN
CALSCALE:GREGORIAN
METHOD:PUBLISH
X-ORIGINAL-URL:https://www.crystalfallsgirlscouts.org
X-WR-CALDESC:Events for Crystal Falls Service Unit
REFRESH-INTERVAL;VALUE=DURATION:PT1H
X-Robots-Tag:noindex
X-PUBLISHED-TTL:PT1H
BEGIN:VTIMEZONE
TZID:America/Chicago
BEGIN:DAYLIGHT
TZOFFSETFROM:-0600
TZOFFSETTO:-0500
TZNAME:CDT
DTSTART:20210314T080000
END:DAYLIGHT
BEGIN:STANDARD
TZOFFSETFROM:-0500
TZOFFSETTO:-0600
TZNAME:CST
DTSTART:20211107T070000
END:STANDARD
BEGIN:DAYLIGHT
TZOFFSETFROM:-0600
TZOFFSETTO:-0500
TZNAME:CDT
DTSTART:20220313T080000
END:DAYLIGHT
BEGIN:STANDARD
TZOFFSETFROM:-0500
TZOFFSETTO:-0600
TZNAME:CST
DTSTART:20221106T070000
END:STANDARD
BEGIN:DAYLIGHT
TZOFFSETFROM:-0600
TZOFFSETTO:-0500
TZNAME:CDT
DTSTART:20230312T080000
END:DAYLIGHT
BEGIN:STANDARD
TZOFFSETFROM:-0500
TZOFFSETTO:-0600
TZNAME:CST
DTSTART:20231105T070000
END:STANDARD
END:VTIMEZONE
BEGIN:VEVENT
DTSTART;TZID=America/Chicago:20221026T183000
DTEND;TZID=America/Chicago:20221026T200000
DTSTAMP:20260424T083016
CREATED:20220928T011655Z
LAST-MODIFIED:20221019T171711Z
UID:10000077-1666809000-1666814400@www.crystalfallsgirlscouts.org
SUMMARY:Troop Cookie Coordinator (TCC) Training
DESCRIPTION:CFSU will offer 2 options for the required TCC (Troop Cookie Coordinator) training this year\, you only need to complete 1! Training is required for all Troop Cookie Coordinators to receive information about the upcoming Cookie Season\, including onboarding for new TCCs\, changes for the upcoming year\, and information about booth selections. \n\n\n\nThis session will be in person and will be more geared towards newer TCCs however this will be a great opportunity to meet other TCCs and your cookie team in person as well as have a fantastic brunch while getting your mandatory training completed.
URL:https://www.crystalfallsgirlscouts.org/event/troop-cookie-coordinator-tcc-training-2/
LOCATION:Blue Corn Harvest\, 11840 Hero Way W Bldg A\, Leander\, 78641
CATEGORIES:Cookie Season
ATTACH;FMTTYPE=image/png:https://www.crystalfallsgirlscouts.org/wp-content/uploads/2022/07/Cookie-Training.png
ORGANIZER;CN="Crystal Falls Cookie Manager":MAILTO:CFSUcookie@gmail.com
END:VEVENT
BEGIN:VEVENT
DTSTART;TZID=America/Chicago:20221021T170000
DTEND;TZID=America/Chicago:20221023T120000
DTSTAMP:20260424T083016
CREATED:20220705T212002Z
LAST-MODIFIED:20221019T004451Z
UID:10000063-1666371600-1666526400@www.crystalfallsgirlscouts.org
SUMMARY:Fall Campout & Investiture
DESCRIPTION:The CFSU troops come together to enjoy a weekend of fun and fellowship! Most of the weekend is planned by the individual Troops\, however the Investiture & Rededication Ceremony is scheduled for Saturday\, October 22 at 3pm. \n\n\n\nInvestiture is a ceremony that happens once per year to welcome new girls into the organization. The traditional audience is anyone who has not yet learned the Girl Scout Law & Promise\, whether they are 1st-year Daisies or new to Scouting.  \n\n\n\nIn addition to Investiture\, this ceremony will include a Rededication for all returning scouts as a way for the Girls to recommit to the Girl Scout Promise & Law for another year.  \n\n\n\nIn both instances\, this ceremony is very important to the girls and family support is encouraged – Parents and siblings are welcome to attend the ceremony!
URL:https://www.crystalfallsgirlscouts.org/event/fall-campout-investiture/
LOCATION:Jim Hogg Park\, 500 Jim Hogg Road\, Georgetown\, Texas\, 78641\, United States
ATTACH;FMTTYPE=image/jpeg:https://www.crystalfallsgirlscouts.org/wp-content/uploads/2022/07/camping.jpeg
ORGANIZER;CN="Crystal Falls Service Unit Director":MAILTO:crystalfallssud@gmail.com
END:VEVENT
BEGIN:VEVENT
DTSTART;TZID=America/Chicago:20221018T190000
DTEND;TZID=America/Chicago:20221018T200000
DTSTAMP:20260424T083016
CREATED:20221017T155927Z
LAST-MODIFIED:20221017T155935Z
UID:10000053-1666119600-1666123200@www.crystalfallsgirlscouts.org
SUMMARY:Monthly Leader Meeting
DESCRIPTION:Each month\, Troop leaders and Service Unit Leadership meetings to discuss various topics\, events\, and projects.  \n\n\n\nClick here to see the meeting agenda.
URL:https://www.crystalfallsgirlscouts.org/event/monthly-leader-meeting-2/
LOCATION:Zoom (virtual)\, TX
CATEGORIES:Leader Meetings
ATTACH;FMTTYPE=image/jpeg:https://www.crystalfallsgirlscouts.org/wp-content/uploads/2022/07/leader-meeting.jpg
ORGANIZER;CN="Crystal Falls Service Unit Director":MAILTO:crystalfallssud@gmail.com
END:VEVENT
BEGIN:VEVENT
DTSTART;TZID=America/Chicago:20221018T173000
DTEND;TZID=America/Chicago:20221018T184500
DTSTAMP:20260424T083016
CREATED:20220705T211803Z
LAST-MODIFIED:20221019T171716Z
UID:10000062-1666114200-1666118700@www.crystalfallsgirlscouts.org
SUMMARY:Troop Cookie Coordinator (TCC) Training
DESCRIPTION:CFSU will offer 2 options for the required TCC (Troop Cookie Coordinator) training this year\, you only need to complete 1! Training is required for all Troop Cookie Coordinators to receive information about the upcoming Cookie Season\, including onboarding for new TCCs\, changes for the upcoming year\, and information about booth selections. \n\n\n\nThis session will be on Zoom and will be more geared toward experienced TCCs. It will also be recorded for anyone that is not able to attend the live session \n\n\n\nJoin Zoom Meeting \n\n\n\nMeeting ID: 604 325 1770 \n\n\n\nPasscode: GScookies
URL:https://www.crystalfallsgirlscouts.org/event/troop-cookie-coordinator-tcc-training/
LOCATION:Zoom (virtual)\, TX
CATEGORIES:Cookie Season
ATTACH;FMTTYPE=image/png:https://www.crystalfallsgirlscouts.org/wp-content/uploads/2022/07/Cookie-Training.png
ORGANIZER;CN="Crystal Falls Cookie Manager":MAILTO:CFSUcookie@gmail.com
END:VEVENT
BEGIN:VEVENT
DTSTART;TZID=America/Chicago:20221004T190000
DTEND;TZID=America/Chicago:20221004T210000
DTSTAMP:20260424T083016
CREATED:20220705T210513Z
LAST-MODIFIED:20230306T153034Z
UID:10000045-1664910000-1664917200@www.crystalfallsgirlscouts.org
SUMMARY:Service Team Meeting
DESCRIPTION:The Service Team is an internal team within the Service Unit Leadership.
URL:https://www.crystalfallsgirlscouts.org/event/service-team-meeting/2022-10-04/
LOCATION:Zoom (virtual)\, TX
ATTACH;FMTTYPE=image/jpeg:https://www.crystalfallsgirlscouts.org/wp-content/uploads/2022/07/service-team.jpg
ORGANIZER;CN="Crystal Falls Service Unit Director":MAILTO:crystalfallssud@gmail.com
END:VEVENT
BEGIN:VEVENT
DTSTART;TZID=America/Chicago:20220929T170000
DTEND;TZID=America/Chicago:20220929T190000
DTSTAMP:20260424T083016
CREATED:20220921T001849Z
LAST-MODIFIED:20220921T002005Z
UID:10000074-1664470800-1664478000@www.crystalfallsgirlscouts.org
SUMMARY:Adult Social Event
DESCRIPTION:Join other Troop leaders for a social event. This event is for adults only; no need to stay the entire time – feel free to come and go as you please!
URL:https://www.crystalfallsgirlscouts.org/event/adult-social-event/
LOCATION:Guaco Taco\, 1840 Crystal Falls Pkwy\, Leander\, Texas\, 78641
ATTACH;FMTTYPE=image/jpeg:https://www.crystalfallsgirlscouts.org/wp-content/uploads/2022/09/adult-social.jpg
END:VEVENT
BEGIN:VEVENT
DTSTART;TZID=America/Chicago:20220920T190000
DTEND;TZID=America/Chicago:20220920T200000
DTSTAMP:20260424T083016
CREATED:20220705T211202Z
LAST-MODIFIED:20220923T183049Z
UID:10000050-1663700400-1663704000@www.crystalfallsgirlscouts.org
SUMMARY:Monthly Leader Meeting
DESCRIPTION:Each month\, Troop leaders and Service Unit Leadership meetings to discuss various topics\, events\, and projects.  \n\n\n\nClick here to see the meeting agenda. \n\n\n\nClick here to see the meeting minutes.
URL:https://www.crystalfallsgirlscouts.org/event/monthly-leader-meeting-2022-09-20/
LOCATION:Zoom (virtual)\, TX
CATEGORIES:Leader Meetings
ATTACH;FMTTYPE=image/jpeg:https://www.crystalfallsgirlscouts.org/wp-content/uploads/2022/07/leader-meeting.jpg
ORGANIZER;CN="Crystal Falls Service Unit Director":MAILTO:crystalfallssud@gmail.com
END:VEVENT
BEGIN:VEVENT
DTSTART;TZID=America/Chicago:20220911T173000
DTEND;TZID=America/Chicago:20220911T193000
DTSTAMP:20260424T083016
CREATED:20220819T223649Z
LAST-MODIFIED:20220820T010215Z
UID:10000069-1662917400-1662924600@www.crystalfallsgirlscouts.org
SUMMARY:Back to School Skate Party
DESCRIPTION:Join the Crystal Falls Service Unit on the September 11 National Day of Service and Remembrance. Consider using this day to serve others by bringing a donation with you before you skate. \n\n\n\nPizza & drink provided \n\n\n\n$6 per scout (includes a fun patch)$5 per adultPayment via Venmo (@CFSU_78641\, reference: Skating Party) \n\n\n\nSpace is limited – register early! \n\n\n\nRSVP Your Troop\n\n\n\nLoading…
URL:https://www.crystalfallsgirlscouts.org/event/back-to-school-skate-party/
LOCATION:Playland Skate Center\, 8822 McCann Dr.\, Austin\, Texas\, 78757\, United States
ATTACH;FMTTYPE=image/jpeg:https://www.crystalfallsgirlscouts.org/wp-content/uploads/2022/08/cfsu_skatingevent.jpg
END:VEVENT
BEGIN:VEVENT
DTSTART;TZID=America/Chicago:20220830T190000
DTEND;TZID=America/Chicago:20220830T200000
DTSTAMP:20260424T083016
CREATED:20220705T211202Z
LAST-MODIFIED:20220910T191700Z
UID:10000049-1661886000-1661889600@www.crystalfallsgirlscouts.org
SUMMARY:Monthly Leader Meeting
DESCRIPTION:Each month\, Troop leaders and Service Unit Leadership meetings to discuss various topics\, events\, and projects.  \n\n\n\nClick here to see the agenda for the meeting. \n\n\n\nClick here to see the meeting minutes.
URL:https://www.crystalfallsgirlscouts.org/event/monthly-leader-meeting/
LOCATION:Zoom (virtual)\, TX
CATEGORIES:Leader Meetings
ATTACH;FMTTYPE=image/jpeg:https://www.crystalfallsgirlscouts.org/wp-content/uploads/2022/07/leader-meeting.jpg
ORGANIZER;CN="Crystal Falls Service Unit Director":MAILTO:crystalfallssud@gmail.com
END:VEVENT
BEGIN:VEVENT
DTSTART;TZID=America/Chicago:20220829T190000
DTEND;TZID=America/Chicago:20220829T200000
DTSTAMP:20260424T083016
CREATED:20220829T131712Z
LAST-MODIFIED:20220829T132520Z
UID:10000071-1661799600-1661803200@www.crystalfallsgirlscouts.org
SUMMARY:Parent Recruitment Meeting
DESCRIPTION:Please join us for our parent meeting via Zoom to go over what to expect with Girl Scouts including our mission\, goals\, and to answer any questions you might have.  \n\n\n\nAugust 29\, 2022\, 7:00pm-8:00pm \n\n\n\nJoin Zoom Meeting: https://zoom.us/j/97607695218Meeting ID: 976 0769 5218Passcode: CFSU<3
URL:https://www.crystalfallsgirlscouts.org/event/parent-recruitment-meeting/
CATEGORIES:Recruitment
ATTACH;FMTTYPE=image/png:https://www.crystalfallsgirlscouts.org/wp-content/uploads/2022/08/2022-08-Parent-Meeting.png
END:VEVENT
BEGIN:VEVENT
DTSTART;TZID=America/Chicago:20220806T100000
DTEND;TZID=America/Chicago:20220806T193000
DTSTAMP:20260424T083016
CREATED:20220701T003656Z
LAST-MODIFIED:20220808T235700Z
UID:10000043-1659780000-1659814200@www.crystalfallsgirlscouts.org
SUMMARY:2022 Annual Leader Retreat
DESCRIPTION:The annual leadership retreat is intended to strengthen bonds between troop leadership across the service unit and to help leaders gain new perspectives and information that can help them be stronger leaders. \n\n\n\nClick here for a detailed agenda for the retreat. \n\n\n\nClick here for the PowerPoint slide deck from the retreat. \n\n\n\nClick here for a PDF of the LGBTQ+ Toolkit.
URL:https://www.crystalfallsgirlscouts.org/event/2022-annual-leader-retreat/
LOCATION:Georgetown Girl Scout House\, 1511 Laurel Street\, Georgetown\, Texas\, 78626\, United States
CATEGORIES:Leader Meetings
ATTACH;FMTTYPE=image/jpeg:https://www.crystalfallsgirlscouts.org/wp-content/uploads/2022/06/retreat-scaled.jpeg
ORGANIZER;CN="Crystal Falls Service Unit Director":MAILTO:crystalfallssud@gmail.com
END:VEVENT
BEGIN:VEVENT
DTSTART;TZID=America/Chicago:20220804T103000
DTEND;TZID=America/Chicago:20220804T180000
DTSTAMP:20260424T083016
CREATED:20220625T003949Z
LAST-MODIFIED:20220625T003955Z
UID:10000042-1659609000-1659636000@www.crystalfallsgirlscouts.org
SUMMARY:Girl Scout Day @ Typhoon Texas
DESCRIPTION:Beat the heat at the 5th Annual Girl Scout Day at Typhoon Texas Austin on August 4! \n\n\n\nUse Promo Code GIRLSCOUT for the discounted Girl Scout package that includes admission\, meal voucher\, and a fun patch. Already have season tickets? There’s an option for purchasing just the patch and/or meal. Ticket link: https://tinyurl.com/gsctxtyphtx22. Friends and family who are not Girl Scout members are welcome to purchase the Girl Scout Day package\, too. \n\n\n\nBe sure to stop by the Customer Service Desk in Sundance Square when you enter to collect your pre-purchased meal voucher and patch. \n\n\n\nCome by the GSCTX table before 1 p.m. to do a scavenger hunt and earn the H-E-B Health & Wellness fun patch while you’re there.
URL:https://www.crystalfallsgirlscouts.org/event/girl-scout-day-typhoon-texas/
LOCATION:Typhoon Texas\, 18500 TX-130 Service Rd.\, Pflugerville\, Texas\, 78660\, United States
ATTACH;FMTTYPE=image/jpeg:https://www.crystalfallsgirlscouts.org/wp-content/uploads/2022/06/Typhoon-Texas.jpg
END:VEVENT
BEGIN:VEVENT
DTSTART;TZID=America/Chicago:20220802T190000
DTEND;TZID=America/Chicago:20220802T210000
DTSTAMP:20260424T083016
CREATED:20220705T210513Z
LAST-MODIFIED:20230306T153034Z
UID:10000044-1659466800-1659474000@www.crystalfallsgirlscouts.org
SUMMARY:Service Team Meeting
DESCRIPTION:The Service Team is an internal team within the Service Unit Leadership.
URL:https://www.crystalfallsgirlscouts.org/event/service-team-meeting/2022-08-02/
LOCATION:Zoom (virtual)\, TX
ATTACH;FMTTYPE=image/jpeg:https://www.crystalfallsgirlscouts.org/wp-content/uploads/2022/07/service-team.jpg
ORGANIZER;CN="Crystal Falls Service Unit Director":MAILTO:crystalfallssud@gmail.com
END:VEVENT
BEGIN:VEVENT
DTSTART;TZID=America/Chicago:20220716T110000
DTEND;TZID=America/Chicago:20220716T130000
DTSTAMP:20260424T083016
CREATED:20220622T000258Z
LAST-MODIFIED:20220706T005109Z
UID:10000041-1657969200-1657976400@www.crystalfallsgirlscouts.org
SUMMARY:Totally Tie-Dye
DESCRIPTION:Come meet your local Girl Scout Service Unit\, learn more about Girl Scouts and tie dye a gift to take home! \nThis event is FREE and is open to any girl in Kindergarten and up that will be attending Leander ISD in the fall. \nClick here to RSVP.
URL:https://www.crystalfallsgirlscouts.org/event/totally-tie-dye/
LOCATION:Bryson Backyard Amenity Center\, 1960 Pleasant Hill Road\, Leander\, TX\, 78641\, United States
CATEGORIES:Recruitment
ATTACH;FMTTYPE=image/png:https://www.crystalfallsgirlscouts.org/wp-content/uploads/2022/07/2022-07-16-tie-dye-featured.png
ORGANIZER;CN="CFSU Recruitment Coordinator":MAILTO:cfsurecruitment@gmail.com
END:VEVENT
BEGIN:VEVENT
DTSTART;TZID=America/Chicago:20220622T160000
DTEND;TZID=America/Chicago:20220622T180000
DTSTAMP:20260424T083016
CREATED:20220621T195304Z
LAST-MODIFIED:20220621T195424Z
UID:10000040-1655913600-1655920800@www.crystalfallsgirlscouts.org
SUMMARY:A Midsummer Night's Dream
DESCRIPTION:Join Girl Scouts Crystal Falls Service Unit for A Midsummer Night’s Dream\, by William Shakespeare. \n\n\n\nExcerpts from the classic play read aloud by local Girl Scouts.Make a fun fairy “swap”Costumes encouragedKona Ice\n\n\n\nFree event! \n\n\n\nNo registration required
URL:https://www.crystalfallsgirlscouts.org/event/a-midsummer-nights-dream/
LOCATION:Leander Public Library\, 1011 S Bagdad Road\, Leander\, Texas\, 78641\, United States
CATEGORIES:Recruitment
ATTACH;FMTTYPE=image/jpeg:https://www.crystalfallsgirlscouts.org/wp-content/uploads/2022/06/Midsummer-Nights-Dream.jpg
ORGANIZER;CN="CFSU Recruitment Coordinator":MAILTO:cfsurecruitment@gmail.com
END:VEVENT
END:VCALENDAR