BEGIN:VCALENDAR
VERSION:2.0
PRODID:-//Crystal Falls Service Unit - ECPv6.15.20//NONSGML v1.0//EN
CALSCALE:GREGORIAN
METHOD:PUBLISH
X-WR-CALNAME:Crystal Falls Service Unit
X-ORIGINAL-URL:https://www.crystalfallsgirlscouts.org
X-WR-CALDESC:Events for Crystal Falls Service Unit
REFRESH-INTERVAL;VALUE=DURATION:PT1H
X-Robots-Tag:noindex
X-PUBLISHED-TTL:PT1H
BEGIN:VTIMEZONE
TZID:America/Chicago
BEGIN:DAYLIGHT
TZOFFSETFROM:-0600
TZOFFSETTO:-0500
TZNAME:CDT
DTSTART:20210314T080000
END:DAYLIGHT
BEGIN:STANDARD
TZOFFSETFROM:-0500
TZOFFSETTO:-0600
TZNAME:CST
DTSTART:20211107T070000
END:STANDARD
BEGIN:DAYLIGHT
TZOFFSETFROM:-0600
TZOFFSETTO:-0500
TZNAME:CDT
DTSTART:20220313T080000
END:DAYLIGHT
BEGIN:STANDARD
TZOFFSETFROM:-0500
TZOFFSETTO:-0600
TZNAME:CST
DTSTART:20221106T070000
END:STANDARD
BEGIN:DAYLIGHT
TZOFFSETFROM:-0600
TZOFFSETTO:-0500
TZNAME:CDT
DTSTART:20230312T080000
END:DAYLIGHT
BEGIN:STANDARD
TZOFFSETFROM:-0500
TZOFFSETTO:-0600
TZNAME:CST
DTSTART:20231105T070000
END:STANDARD
END:VTIMEZONE
BEGIN:VEVENT
DTSTART;TZID=America/Chicago:20220806T100000
DTEND;TZID=America/Chicago:20220806T193000
DTSTAMP:20260425T072624
CREATED:20220701T003656Z
LAST-MODIFIED:20220808T235700Z
UID:10000043-1659780000-1659814200@www.crystalfallsgirlscouts.org
SUMMARY:2022 Annual Leader Retreat
DESCRIPTION:The annual leadership retreat is intended to strengthen bonds between troop leadership across the service unit and to help leaders gain new perspectives and information that can help them be stronger leaders. \n\n\n\nClick here for a detailed agenda for the retreat. \n\n\n\nClick here for the PowerPoint slide deck from the retreat. \n\n\n\nClick here for a PDF of the LGBTQ+ Toolkit.
URL:https://www.crystalfallsgirlscouts.org/event/2022-annual-leader-retreat/
LOCATION:Georgetown Girl Scout House\, 1511 Laurel Street\, Georgetown\, Texas\, 78626\, United States
CATEGORIES:Leader Meetings
ATTACH;FMTTYPE=image/jpeg:https://www.crystalfallsgirlscouts.org/wp-content/uploads/2022/06/retreat-scaled.jpeg
ORGANIZER;CN="Crystal Falls Service Unit Director":MAILTO:crystalfallssud@gmail.com
END:VEVENT
BEGIN:VEVENT
DTSTART;TZID=America/Chicago:20220804T103000
DTEND;TZID=America/Chicago:20220804T180000
DTSTAMP:20260425T072624
CREATED:20220625T003949Z
LAST-MODIFIED:20220625T003955Z
UID:10000042-1659609000-1659636000@www.crystalfallsgirlscouts.org
SUMMARY:Girl Scout Day @ Typhoon Texas
DESCRIPTION:Beat the heat at the 5th Annual Girl Scout Day at Typhoon Texas Austin on August 4! \n\n\n\nUse Promo Code GIRLSCOUT for the discounted Girl Scout package that includes admission\, meal voucher\, and a fun patch. Already have season tickets? There’s an option for purchasing just the patch and/or meal. Ticket link: https://tinyurl.com/gsctxtyphtx22. Friends and family who are not Girl Scout members are welcome to purchase the Girl Scout Day package\, too. \n\n\n\nBe sure to stop by the Customer Service Desk in Sundance Square when you enter to collect your pre-purchased meal voucher and patch. \n\n\n\nCome by the GSCTX table before 1 p.m. to do a scavenger hunt and earn the H-E-B Health & Wellness fun patch while you’re there.
URL:https://www.crystalfallsgirlscouts.org/event/girl-scout-day-typhoon-texas/
LOCATION:Typhoon Texas\, 18500 TX-130 Service Rd.\, Pflugerville\, Texas\, 78660\, United States
ATTACH;FMTTYPE=image/jpeg:https://www.crystalfallsgirlscouts.org/wp-content/uploads/2022/06/Typhoon-Texas.jpg
END:VEVENT
BEGIN:VEVENT
DTSTART;TZID=America/Chicago:20220802T190000
DTEND;TZID=America/Chicago:20220802T210000
DTSTAMP:20260425T072624
CREATED:20220705T210513Z
LAST-MODIFIED:20230306T153034Z
UID:10000044-1659466800-1659474000@www.crystalfallsgirlscouts.org
SUMMARY:Service Team Meeting
DESCRIPTION:The Service Team is an internal team within the Service Unit Leadership.
URL:https://www.crystalfallsgirlscouts.org/event/service-team-meeting/2022-08-02/
LOCATION:Zoom (virtual)\, TX
ATTACH;FMTTYPE=image/jpeg:https://www.crystalfallsgirlscouts.org/wp-content/uploads/2022/07/service-team.jpg
ORGANIZER;CN="Crystal Falls Service Unit Director":MAILTO:crystalfallssud@gmail.com
END:VEVENT
BEGIN:VEVENT
DTSTART;TZID=America/Chicago:20220716T110000
DTEND;TZID=America/Chicago:20220716T130000
DTSTAMP:20260425T072624
CREATED:20220622T000258Z
LAST-MODIFIED:20220706T005109Z
UID:10000041-1657969200-1657976400@www.crystalfallsgirlscouts.org
SUMMARY:Totally Tie-Dye
DESCRIPTION:Come meet your local Girl Scout Service Unit\, learn more about Girl Scouts and tie dye a gift to take home! \nThis event is FREE and is open to any girl in Kindergarten and up that will be attending Leander ISD in the fall. \nClick here to RSVP.
URL:https://www.crystalfallsgirlscouts.org/event/totally-tie-dye/
LOCATION:Bryson Backyard Amenity Center\, 1960 Pleasant Hill Road\, Leander\, TX\, 78641\, United States
CATEGORIES:Recruitment
ATTACH;FMTTYPE=image/png:https://www.crystalfallsgirlscouts.org/wp-content/uploads/2022/07/2022-07-16-tie-dye-featured.png
ORGANIZER;CN="CFSU Recruitment Coordinator":MAILTO:cfsurecruitment@gmail.com
END:VEVENT
BEGIN:VEVENT
DTSTART;TZID=America/Chicago:20220622T160000
DTEND;TZID=America/Chicago:20220622T180000
DTSTAMP:20260425T072624
CREATED:20220621T195304Z
LAST-MODIFIED:20220621T195424Z
UID:10000040-1655913600-1655920800@www.crystalfallsgirlscouts.org
SUMMARY:A Midsummer Night's Dream
DESCRIPTION:Join Girl Scouts Crystal Falls Service Unit for A Midsummer Night’s Dream\, by William Shakespeare. \n\n\n\nExcerpts from the classic play read aloud by local Girl Scouts.Make a fun fairy “swap”Costumes encouragedKona Ice\n\n\n\nFree event! \n\n\n\nNo registration required
URL:https://www.crystalfallsgirlscouts.org/event/a-midsummer-nights-dream/
LOCATION:Leander Public Library\, 1011 S Bagdad Road\, Leander\, Texas\, 78641\, United States
CATEGORIES:Recruitment
ATTACH;FMTTYPE=image/jpeg:https://www.crystalfallsgirlscouts.org/wp-content/uploads/2022/06/Midsummer-Nights-Dream.jpg
ORGANIZER;CN="CFSU Recruitment Coordinator":MAILTO:cfsurecruitment@gmail.com
END:VEVENT
END:VCALENDAR