BEGIN:VCALENDAR
VERSION:2.0
PRODID:-//Crystal Falls Service Unit - ECPv6.15.20//NONSGML v1.0//EN
CALSCALE:GREGORIAN
METHOD:PUBLISH
X-ORIGINAL-URL:https://www.crystalfallsgirlscouts.org
X-WR-CALDESC:Events for Crystal Falls Service Unit
REFRESH-INTERVAL;VALUE=DURATION:PT1H
X-Robots-Tag:noindex
X-PUBLISHED-TTL:PT1H
BEGIN:VTIMEZONE
TZID:America/Chicago
BEGIN:DAYLIGHT
TZOFFSETFROM:-0600
TZOFFSETTO:-0500
TZNAME:CDT
DTSTART:20250309T080000
END:DAYLIGHT
BEGIN:STANDARD
TZOFFSETFROM:-0500
TZOFFSETTO:-0600
TZNAME:CST
DTSTART:20251102T070000
END:STANDARD
BEGIN:DAYLIGHT
TZOFFSETFROM:-0600
TZOFFSETTO:-0500
TZNAME:CDT
DTSTART:20260308T080000
END:DAYLIGHT
BEGIN:STANDARD
TZOFFSETFROM:-0500
TZOFFSETTO:-0600
TZNAME:CST
DTSTART:20261101T070000
END:STANDARD
BEGIN:DAYLIGHT
TZOFFSETFROM:-0600
TZOFFSETTO:-0500
TZNAME:CDT
DTSTART:20270314T080000
END:DAYLIGHT
BEGIN:STANDARD
TZOFFSETFROM:-0500
TZOFFSETTO:-0600
TZNAME:CST
DTSTART:20271107T070000
END:STANDARD
END:VTIMEZONE
BEGIN:VEVENT
DTSTART;TZID=America/Chicago:20260427T183000
DTEND;TZID=America/Chicago:20260427T193000
DTSTAMP:20260423T064514
CREATED:20251007T003654Z
LAST-MODIFIED:20260406T205022Z
UID:10000251-1777314600-1777318200@www.crystalfallsgirlscouts.org
SUMMARY:Leader Appreciation Dinner
DESCRIPTION:See email
URL:https://www.crystalfallsgirlscouts.org/event/leaders-meeting-in-person-zoom-hybrid-6/
LOCATION:Texas
END:VEVENT
BEGIN:VEVENT
DTSTART;TZID=America/Chicago:20260509T130000
DTEND;TZID=America/Chicago:20260509T160000
DTSTAMP:20260423T064514
CREATED:20260326T142412Z
LAST-MODIFIED:20260326T154543Z
UID:10000273-1778331600-1778342400@www.crystalfallsgirlscouts.org
SUMMARY:Texas GS Songfest
DESCRIPTION:Register here: Texas Girl Scouts Songfest
URL:https://www.crystalfallsgirlscouts.org/event/texas-gs-songfest/
LOCATION:Texas Capitol\, 1100 Congress Ave\, Austin\, Texas\, 78701\, United States
END:VEVENT
BEGIN:VEVENT
DTSTART;TZID=America/Chicago:20260525T183000
DTEND;TZID=America/Chicago:20260525T193000
DTSTAMP:20260423T064514
CREATED:20251007T003844Z
LAST-MODIFIED:20251007T003857Z
UID:10000252-1779733800-1779737400@www.crystalfallsgirlscouts.org
SUMMARY:Leaders' Meeting - In-Person & Zoom Hybrid
DESCRIPTION:North Way Bible Church: 589 W San Gabriel Pkwy Leander\, TX 78641  \n\n\n\n6:30-7:30pmhttps://us06web.zoom.us/j/81977447116?pwd=Oue4EuMnaKf2CpLQQaf723agD514hA.1 Meeting ID: 819 7744 7116 Passcode: CFSU<3
URL:https://www.crystalfallsgirlscouts.org/event/leaders-meeting-in-person-zoom-hybrid-7/
LOCATION:Texas
END:VEVENT
END:VCALENDAR