BEGIN:VCALENDAR
VERSION:2.0
PRODID:-//Crystal Falls Service Unit - ECPv6.15.20//NONSGML v1.0//EN
CALSCALE:GREGORIAN
METHOD:PUBLISH
X-WR-CALNAME:Crystal Falls Service Unit
X-ORIGINAL-URL:https://www.crystalfallsgirlscouts.org
X-WR-CALDESC:Events for Crystal Falls Service Unit
REFRESH-INTERVAL;VALUE=DURATION:PT1H
X-Robots-Tag:noindex
X-PUBLISHED-TTL:PT1H
BEGIN:VTIMEZONE
TZID:America/Chicago
BEGIN:DAYLIGHT
TZOFFSETFROM:-0600
TZOFFSETTO:-0500
TZNAME:CDT
DTSTART:20240310T080000
END:DAYLIGHT
BEGIN:STANDARD
TZOFFSETFROM:-0500
TZOFFSETTO:-0600
TZNAME:CST
DTSTART:20241103T070000
END:STANDARD
BEGIN:DAYLIGHT
TZOFFSETFROM:-0600
TZOFFSETTO:-0500
TZNAME:CDT
DTSTART:20250309T080000
END:DAYLIGHT
BEGIN:STANDARD
TZOFFSETFROM:-0500
TZOFFSETTO:-0600
TZNAME:CST
DTSTART:20251102T070000
END:STANDARD
BEGIN:DAYLIGHT
TZOFFSETFROM:-0600
TZOFFSETTO:-0500
TZNAME:CDT
DTSTART:20260308T080000
END:DAYLIGHT
BEGIN:STANDARD
TZOFFSETFROM:-0500
TZOFFSETTO:-0600
TZNAME:CST
DTSTART:20261101T070000
END:STANDARD
BEGIN:DAYLIGHT
TZOFFSETFROM:-0600
TZOFFSETTO:-0500
TZNAME:CDT
DTSTART:20270314T080000
END:DAYLIGHT
BEGIN:STANDARD
TZOFFSETFROM:-0500
TZOFFSETTO:-0600
TZNAME:CST
DTSTART:20271107T070000
END:STANDARD
END:VTIMEZONE
BEGIN:VEVENT
DTSTART;TZID=America/Chicago:20260323T183000
DTEND;TZID=America/Chicago:20260323T193000
DTSTAMP:20260423T142136
CREATED:20251007T003504Z
LAST-MODIFIED:20251007T003518Z
UID:10000250-1774290600-1774294200@www.crystalfallsgirlscouts.org
SUMMARY:Leaders' Meeting - In-Person & Zoom Hybrid
DESCRIPTION:North Way Bible Church: 589 W San Gabriel Pkwy Leander\, TX 78641  \n\n\n\n6:30-7:30pmhttps://us06web.zoom.us/j/81977447116?pwd=Oue4EuMnaKf2CpLQQaf723agD514hA.1 Meeting ID: 819 7744 7116 Passcode: CFSU<3
URL:https://www.crystalfallsgirlscouts.org/event/leaders-meeting-in-person-zoom-hybrid-5/
LOCATION:Texas
END:VEVENT
BEGIN:VEVENT
DTSTART;TZID=America/Chicago:20260308T140000
DTEND;TZID=America/Chicago:20260308T160000
DTSTAMP:20260423T142136
CREATED:20260213T155148Z
LAST-MODIFIED:20260213T155150Z
UID:10000269-1772978400-1772985600@www.crystalfallsgirlscouts.org
SUMMARY:(100th!) World Thinking Day
DESCRIPTION:March 8th 2p-4p @ Life ChurchSign Up Here: https://forms.gle/uV6VnY91AjPKMqzr9$4 per Girl Scout
URL:https://www.crystalfallsgirlscouts.org/event/100th-world-thinking-day-2/
LOCATION:Texas
END:VEVENT
BEGIN:VEVENT
DTSTART;TZID=America/Chicago:20260301T080000
DTEND;TZID=America/Chicago:20260301T170000
DTSTAMP:20260423T142136
CREATED:20251008T235334Z
LAST-MODIFIED:20251008T235353Z
UID:10000260-1772352000-1772384400@www.crystalfallsgirlscouts.org
SUMMARY:Cookie Sales End!
DESCRIPTION:
URL:https://www.crystalfallsgirlscouts.org/event/cookie-sales-end/
LOCATION:Texas
END:VEVENT
BEGIN:VEVENT
DTSTART;TZID=America/Chicago:20260228T110000
DTEND;TZID=America/Chicago:20260228T160000
DTSTAMP:20260423T142136
CREATED:20260213T154816Z
LAST-MODIFIED:20260213T154819Z
UID:10000268-1772276400-1772294400@www.crystalfallsgirlscouts.org
SUMMARY:STEM Girl Day at UT Austin
DESCRIPTION:STEM Girl Day at UT Austin: STEM Girl Day at UT Austin Registration \n\n\n\nSaturday\, February 28\, 2026 \n\n\n\n11:00 a.m. – 4:00 p.m. CT on The University of Texas at Austin Campus
URL:https://www.crystalfallsgirlscouts.org/event/stem-girl-day-at-ut-austin/
LOCATION:Texas
END:VEVENT
BEGIN:VEVENT
DTSTART;TZID=America/Chicago:20260223T183000
DTEND;TZID=America/Chicago:20260223T190000
DTSTAMP:20260423T142136
CREATED:20251007T003244Z
LAST-MODIFIED:20251007T003259Z
UID:10000249-1771871400-1771873200@www.crystalfallsgirlscouts.org
SUMMARY:Leaders' Meeting - In-Person & Zoom Hybrid
DESCRIPTION:North Way Bible Church: 589 W San Gabriel Pkwy Leander\, TX 78641  \n\n\n\n6:30-7:30pmhttps://us06web.zoom.us/j/81977447116?pwd=Oue4EuMnaKf2CpLQQaf723agD514hA.1 Meeting ID: 819 7744 7116 Passcode: CFSU<3
URL:https://www.crystalfallsgirlscouts.org/event/leaders-meeting-in-person-zoom-hybrid-4/
LOCATION:Texas
END:VEVENT
BEGIN:VEVENT
DTSTART;TZID=America/Chicago:20260126T183000
DTEND;TZID=America/Chicago:20260126T193000
DTSTAMP:20260423T142136
CREATED:20251007T002544Z
LAST-MODIFIED:20251007T002957Z
UID:10000247-1769452200-1769455800@www.crystalfallsgirlscouts.org
SUMMARY:Leaders' Meeting - In-Person & Zoom Hybrid
DESCRIPTION:North Way Bible Church: 589 W San Gabriel Pkwy Leander\, TX 78641  \n\n\n\n6:30-7:30pmhttps://us06web.zoom.us/j/81977447116?pwd=Oue4EuMnaKf2CpLQQaf723agD514hA.1 Meeting ID: 819 7744 7116 Passcode: CFSU<3
URL:https://www.crystalfallsgirlscouts.org/event/leaders-meeting-in-person-zoom-hybrid-2/
LOCATION:Texas
END:VEVENT
BEGIN:VEVENT
DTSTART;TZID=America/Chicago:20260119T100000
DTEND;TZID=America/Chicago:20260119T140000
DTSTAMP:20260423T142136
CREATED:20251217T235333Z
LAST-MODIFIED:20251217T235408Z
UID:10000267-1768816800-1768831200@www.crystalfallsgirlscouts.org
SUMMARY:Martin Luther King Jr. Day March and Celebration
DESCRIPTION:
URL:https://www.crystalfallsgirlscouts.org/event/martin-luther-king-jr-day-march-and-celebration/
LOCATION:Texas
END:VEVENT
BEGIN:VEVENT
DTSTART;TZID=America/Chicago:20260114T080000
DTEND;TZID=America/Chicago:20260114T170000
DTSTAMP:20260423T142136
CREATED:20251008T235228Z
LAST-MODIFIED:20251008T235244Z
UID:10000259-1768377600-1768410000@www.crystalfallsgirlscouts.org
SUMMARY:Cookie Sales Begin!
DESCRIPTION:
URL:https://www.crystalfallsgirlscouts.org/event/cookie-sales-begin/
LOCATION:Texas
END:VEVENT
BEGIN:VEVENT
DTSTART;TZID=America/Chicago:20260105T183000
DTEND;TZID=America/Chicago:20260105T203000
DTSTAMP:20260423T142136
CREATED:20251008T235116Z
LAST-MODIFIED:20251008T235129Z
UID:10000258-1767637800-1767645000@www.crystalfallsgirlscouts.org
SUMMARY:Service Team
DESCRIPTION:
URL:https://www.crystalfallsgirlscouts.org/event/service-team-2/
LOCATION:Texas
END:VEVENT
BEGIN:VEVENT
DTSTART;TZID=America/Chicago:20251218T183000
DTEND;TZID=America/Chicago:20251218T200000
DTSTAMP:20260423T142136
CREATED:20251202T224719Z
LAST-MODIFIED:20251202T224730Z
UID:10000266-1766082600-1766088000@www.crystalfallsgirlscouts.org
SUMMARY:CFSU Cookie Booth Draft
DESCRIPTION:December 18 \n\n\n\n6:30 – 8:00 p.m. \n\n\n\nCFSU Cookie Booth Draft \n\n\n\nZoom link will be emailed directly to TCCs
URL:https://www.crystalfallsgirlscouts.org/event/cfsu-cookie-booth-draft/
LOCATION:Texas
END:VEVENT
BEGIN:VEVENT
DTSTART;TZID=America/Chicago:20251215T180000
DTEND;TZID=America/Chicago:20251215T200000
DTSTAMP:20260423T142136
CREATED:20251007T004305Z
LAST-MODIFIED:20251122T014110Z
UID:10000253-1765821600-1765828800@www.crystalfallsgirlscouts.org
SUMMARY:Leader Appreciation Dinner
DESCRIPTION:Event details: 2423 Suaterne Drive\, Leander TX 78641 \n\n\n\n6-8pm
URL:https://www.crystalfallsgirlscouts.org/event/leader-appreciation-dinner/
LOCATION:Texas
END:VEVENT
BEGIN:VEVENT
DTSTART;TZID=America/Chicago:20251206T000000
DTEND;TZID=America/Chicago:20251206T235959
DTSTAMP:20260423T142136
CREATED:20250818T214004Z
LAST-MODIFIED:20251119T001346Z
UID:10000229-1764979200-1765065599@www.crystalfallsgirlscouts.org
SUMMARY:Leander Holiday Parade
DESCRIPTION:REGISTER HERE:  \n\n\n\nhttps://docs.google.com/forms/d/e/1FAIpQLScrj89RrXzXd_8xK9tJ2UWT2hMLndB2r6Woz1YOmvuhErBUmQ/viewform \n\n\n\nTheme: The Grinch \n\n\n\nWhen? See details below \n\n\n\nDress up as a Who or GS Cookie costumes while riding on a decorated flatbed trailer!
URL:https://www.crystalfallsgirlscouts.org/event/leander-holiday-parade/
LOCATION:Texas
END:VEVENT
BEGIN:VEVENT
DTSTART;TZID=America/Chicago:20251205T180000
DTEND;TZID=America/Chicago:20251205T200000
DTSTAMP:20260423T142136
CREATED:20251119T001119Z
LAST-MODIFIED:20251119T001135Z
UID:10000263-1764957600-1764964800@www.crystalfallsgirlscouts.org
SUMMARY:Parade Float Decorating Party
DESCRIPTION:REGISTER HERE:  \n\n\n\nhttps://docs.google.com/forms/d/e/1FAIpQLScrj89RrXzXd_8xK9tJ2UWT2hMLndB2r6Woz1YOmvuhErBUmQ/viewform
URL:https://www.crystalfallsgirlscouts.org/event/parade-float-decorating-party/
LOCATION:Texas
END:VEVENT
BEGIN:VEVENT
DTSTART;TZID=America/Chicago:20251205T080000
DTEND;TZID=America/Chicago:20251205T170000
DTSTAMP:20260423T142136
CREATED:20251008T234942Z
LAST-MODIFIED:20251008T234956Z
UID:10000257-1764921600-1764954000@www.crystalfallsgirlscouts.org
SUMMARY:Initial Cookie Order Due
DESCRIPTION:
URL:https://www.crystalfallsgirlscouts.org/event/initial-cookie-order-due/
LOCATION:Texas
END:VEVENT
BEGIN:VEVENT
DTSTART;TZID=America/Chicago:20251204T180000
DTEND;TZID=America/Chicago:20251204T193000
DTSTAMP:20260423T142137
CREATED:20251202T224507Z
LAST-MODIFIED:20251202T224517Z
UID:10000265-1764871200-1764876600@www.crystalfallsgirlscouts.org
SUMMARY:TCC Virtual Office Hours
DESCRIPTION:December 4 \n\n\n\n6:00 – 7:30 p.m. \n\n\n\nTCC Virtual Office Hours \n\n\n\nZoom link: https://austincc.zoom.us/my/matthew.evins?pwd=ZXZWRzBHNHVFMHp4TDRaVnhxSEVzdz09
URL:https://www.crystalfallsgirlscouts.org/event/tcc-virtual-office-hours/
LOCATION:Texas
END:VEVENT
BEGIN:VEVENT
DTSTART;TZID=America/Chicago:20251203T180000
DTEND;TZID=America/Chicago:20251203T193000
DTSTAMP:20260423T142137
CREATED:20251202T224058Z
LAST-MODIFIED:20251202T224147Z
UID:10000264-1764784800-1764790200@www.crystalfallsgirlscouts.org
SUMMARY:TCC Virtual Office Hours
DESCRIPTION:December 3 \n\n\n\n6:00 – 7:30 p.m. \n\n\n\nTCC Virtual Office Hours \n\n\n\nZoom link: https://austincc.zoom.us/my/matthew.evins?pwd=ZXZWRzBHNHVFMHp4TDRaVnhxSEVzdz09
URL:https://www.crystalfallsgirlscouts.org/event/6380/
LOCATION:Texas
END:VEVENT
BEGIN:VEVENT
DTSTART;TZID=America/Chicago:20251117T183000
DTEND;TZID=America/Chicago:20251117T193000
DTSTAMP:20260423T142137
CREATED:20251008T234520Z
LAST-MODIFIED:20251008T234534Z
UID:10000255-1763404200-1763407800@www.crystalfallsgirlscouts.org
SUMMARY:Leaders’ Meeting – In-Person & Zoom Hybrid
DESCRIPTION:North Way Bible Church: 589 W San Gabriel Pkwy Leander\, TX 78641  \n\n\n\n6:30-7:30pm \n\n\n\nhttps://us06web.zoom.us/j/81977447116?pwd=Oue4EuMnaKf2CpLQQaf723agD514hA.1 Meeting ID: 819 7744 7116 Passcode: CFSU<3
URL:https://www.crystalfallsgirlscouts.org/event/leaders-meeting-in-person-zoom-hybrid-9/
LOCATION:Texas
END:VEVENT
BEGIN:VEVENT
DTSTART;TZID=America/Chicago:20251115T130000
DTEND;TZID=America/Chicago:20251115T160000
DTSTAMP:20260423T142137
CREATED:20251001T214133Z
LAST-MODIFIED:20251001T223801Z
UID:10000245-1763211600-1763222400@www.crystalfallsgirlscouts.org
SUMMARY:Holiday Market
DESCRIPTION:Holiday Market \n\n\n\nSaturday November 15\, 1-4pm \n\n\n\nHighpoint Fellowship 600 W New Hope Dr. Cedar Park
URL:https://www.crystalfallsgirlscouts.org/event/holiday-market/
LOCATION:Texas
END:VEVENT
BEGIN:VEVENT
DTSTART;TZID=America/Chicago:20251108T100000
DTEND;TZID=America/Chicago:20251108T120000
DTSTAMP:20260423T142137
CREATED:20250905T221737Z
LAST-MODIFIED:20250905T221756Z
UID:10000242-1762596000-1762603200@www.crystalfallsgirlscouts.org
SUMMARY:General cookie program troop training for Troop Cookie Coordinators
DESCRIPTION:General cookie program troop training for Troop Cookie Coordinators signed up for the upcoming season. Attending training is required to participate in the cookie program. \n\n\n\nIn-person\, AUSTIN\, TX for Daisy troops only
URL:https://www.crystalfallsgirlscouts.org/event/general-cookie-program-troop-training-for-troop-cookie-coordinators-11/
LOCATION:Texas
END:VEVENT
BEGIN:VEVENT
DTSTART;TZID=America/Chicago:20251107T160000
DTEND;TZID=America/Chicago:20251107T230000
DTSTAMP:20260423T142137
CREATED:20251007T001718Z
LAST-MODIFIED:20251008T235622Z
UID:10000246-1762531200-1762556400@www.crystalfallsgirlscouts.org
SUMMARY:CFSU Pins & Wheels Fundraiser
DESCRIPTION:Click for details
URL:https://www.crystalfallsgirlscouts.org/event/cfsu-pins-wheels-fundraiser/
LOCATION:Texas
END:VEVENT
BEGIN:VEVENT
DTSTART;TZID=America/Chicago:20251105T183000
DTEND;TZID=America/Chicago:20251105T203000
DTSTAMP:20260423T142137
CREATED:20250905T221458Z
LAST-MODIFIED:20250905T221507Z
UID:10000241-1762367400-1762374600@www.crystalfallsgirlscouts.org
SUMMARY:General cookie program troop training for Troop Cookie Coordinators
DESCRIPTION:General cookie program troop training for Troop Cookie Coordinators signed up for the upcoming season. Attending training is required to participate in the cookie program. \n\n\n\nVirtual for both New and Experienced TCCs
URL:https://www.crystalfallsgirlscouts.org/event/general-cookie-program-troop-training-for-troop-cookie-coordinators-10/
LOCATION:Texas
END:VEVENT
BEGIN:VEVENT
DTSTART;TZID=America/Chicago:20251103T183000
DTEND;TZID=America/Chicago:20251103T203000
DTSTAMP:20260423T142137
CREATED:20251008T234707Z
LAST-MODIFIED:20251008T234718Z
UID:10000256-1762194600-1762201800@www.crystalfallsgirlscouts.org
SUMMARY:Service Team
DESCRIPTION:
URL:https://www.crystalfallsgirlscouts.org/event/service-team/
LOCATION:Texas
END:VEVENT
BEGIN:VEVENT
DTSTART;TZID=America/Chicago:20251103T183000
DTEND;TZID=America/Chicago:20251103T203000
DTSTAMP:20260423T142137
CREATED:20250905T221232Z
LAST-MODIFIED:20250905T221240Z
UID:10000240-1762194600-1762201800@www.crystalfallsgirlscouts.org
SUMMARY:General cookie program troop training for Troop Cookie Coordinators 
DESCRIPTION:General cookie program troop training for Troop Cookie Coordinators signed up for the upcoming season. Attending training is required to participate in the cookie program. \n\n\n\nVirtual for both New and Experienced TCCs
URL:https://www.crystalfallsgirlscouts.org/event/general-cookie-program-troop-training-for-troop-cookie-coordinators-9/
LOCATION:Texas
END:VEVENT
BEGIN:VEVENT
DTSTART;TZID=America/Chicago:20251101T140000
DTEND;TZID=America/Chicago:20251101T160000
DTSTAMP:20260423T142137
CREATED:20250905T221031Z
LAST-MODIFIED:20250905T221039Z
UID:10000239-1762005600-1762012800@www.crystalfallsgirlscouts.org
SUMMARY:General cookie program troop training for Troop Cookie Coordinators 
DESCRIPTION:General cookie program troop training for Troop Cookie Coordinators signed up for the upcoming season. Attending training is required to participate in the cookie program. \n\n\n\nIn-Person\, AUSTIN\, TX for Experienced TCCs 3+ years
URL:https://www.crystalfallsgirlscouts.org/event/general-cookie-program-troop-training-for-troop-cookie-coordinators-8/
LOCATION:Texas
END:VEVENT
BEGIN:VEVENT
DTSTART;TZID=America/Chicago:20251101T100000
DTEND;TZID=America/Chicago:20251101T120000
DTSTAMP:20260423T142137
CREATED:20250905T220829Z
LAST-MODIFIED:20250909T003648Z
UID:10000238-1761991200-1761998400@www.crystalfallsgirlscouts.org
SUMMARY:General cookie program troop training for Troop Cookie Coordinators
DESCRIPTION:General cookie program troop training for Troop Cookie Coordinators signed up for the upcoming season. Attending training is required to participate in the cookie program. \n\n\n\nIn-Person AUSTIN\,TX for New TCCs 0-2 years
URL:https://www.crystalfallsgirlscouts.org/event/6167/
LOCATION:Texas
END:VEVENT
BEGIN:VEVENT
DTSTART;TZID=America/Chicago:20251028T183000
DTEND;TZID=America/Chicago:20251028T203000
DTSTAMP:20260423T142137
CREATED:20250905T220634Z
LAST-MODIFIED:20250905T220642Z
UID:10000237-1761676200-1761683400@www.crystalfallsgirlscouts.org
SUMMARY:General cookie program troop training for Troop Cookie Coordinators 
DESCRIPTION:General cookie program troop training for Troop Cookie Coordinators signed up for the upcoming season. Attending training is required to participate in the cookie program. \n\n\n\nVirtual for both New and Experienced TCCs
URL:https://www.crystalfallsgirlscouts.org/event/general-cookie-program-troop-training-for-troop-cookie-coordinators-7/
LOCATION:Texas
END:VEVENT
BEGIN:VEVENT
DTSTART;TZID=America/Chicago:20251027T183000
DTEND;TZID=America/Chicago:20251027T193000
DTSTAMP:20260423T142137
CREATED:20251008T234320Z
LAST-MODIFIED:20251008T234338Z
UID:10000254-1761589800-1761593400@www.crystalfallsgirlscouts.org
SUMMARY:Leaders’ Meeting – In-Person & Zoom Hybrid
DESCRIPTION:Leaders’ Meeting – In-Person & Zoom Hybrid \n\n\n\nNorth Way Bible Church: 589 W San Gabriel Pkwy Leander\, TX 78641  \n\n\n\n6:30-7:30pm \n\n\n\nhttps://us06web.zoom.us/j/81977447116?pwd=Oue4EuMnaKf2CpLQQaf723agD514hA.1 Meeting ID: 819 7744 7116 Passcode: CFSU<3
URL:https://www.crystalfallsgirlscouts.org/event/leaders-meeting-in-person-zoom-hybrid-8/
LOCATION:Texas
END:VEVENT
BEGIN:VEVENT
DTSTART;TZID=America/Chicago:20251026T130000
DTEND;TZID=America/Chicago:20251026T150000
DTSTAMP:20260423T142137
CREATED:20250905T220343Z
LAST-MODIFIED:20250905T220352Z
UID:10000236-1761483600-1761490800@www.crystalfallsgirlscouts.org
SUMMARY:General cookie program troop training for Troop Cookie Coordinators
DESCRIPTION:General cookie program troop training for Troop Cookie Coordinators signed up for the upcoming season. Attending training is required to participate in the cookie program. \n\n\n\nVirtual for New TCC 0-2 years
URL:https://www.crystalfallsgirlscouts.org/event/general-cookie-program-troop-training-for-troop-cookie-coordinators-6/
LOCATION:Texas
END:VEVENT
BEGIN:VEVENT
DTSTART;TZID=America/Chicago:20251025T140000
DTEND;TZID=America/Chicago:20251025T153000
DTSTAMP:20260423T142137
CREATED:20250905T220152Z
LAST-MODIFIED:20250905T220200Z
UID:10000235-1761400800-1761406200@www.crystalfallsgirlscouts.org
SUMMARY:General cookie program troop training for Troop Cookie Coordinators
DESCRIPTION:General cookie program troop training for Troop Cookie Coordinators signed up for the upcoming season. Attending training is required to participate in the cookie program. \n\n\n\nIn-Person\, AUSTIN\, TX for Experienced TCC 3+ years
URL:https://www.crystalfallsgirlscouts.org/event/general-cookie-program-troop-training-for-troop-cookie-coordinators-5/
LOCATION:Texas
END:VEVENT
BEGIN:VEVENT
DTSTART;TZID=America/Chicago:20251025T100000
DTEND;TZID=America/Chicago:20251025T120000
DTSTAMP:20260423T142137
CREATED:20251011T170605Z
LAST-MODIFIED:20251014T214243Z
UID:10000261-1761386400-1761393600@www.crystalfallsgirlscouts.org
SUMMARY:Fall Festival Recruitment Event
DESCRIPTION:Stepping Stone Leander location on Block House
URL:https://www.crystalfallsgirlscouts.org/event/fall-festival-recruitment-event/
LOCATION:Texas
END:VEVENT
END:VCALENDAR