BEGIN:VCALENDAR
VERSION:2.0
PRODID:-//Crystal Falls Service Unit - ECPv6.15.20//NONSGML v1.0//EN
CALSCALE:GREGORIAN
METHOD:PUBLISH
X-ORIGINAL-URL:https://www.crystalfallsgirlscouts.org
X-WR-CALDESC:Events for Crystal Falls Service Unit
REFRESH-INTERVAL;VALUE=DURATION:PT1H
X-Robots-Tag:noindex
X-PUBLISHED-TTL:PT1H
BEGIN:VTIMEZONE
TZID:America/Chicago
BEGIN:DAYLIGHT
TZOFFSETFROM:-0600
TZOFFSETTO:-0500
TZNAME:CDT
DTSTART:20210314T080000
END:DAYLIGHT
BEGIN:STANDARD
TZOFFSETFROM:-0500
TZOFFSETTO:-0600
TZNAME:CST
DTSTART:20211107T070000
END:STANDARD
BEGIN:DAYLIGHT
TZOFFSETFROM:-0600
TZOFFSETTO:-0500
TZNAME:CDT
DTSTART:20220313T080000
END:DAYLIGHT
BEGIN:STANDARD
TZOFFSETFROM:-0500
TZOFFSETTO:-0600
TZNAME:CST
DTSTART:20221106T070000
END:STANDARD
BEGIN:DAYLIGHT
TZOFFSETFROM:-0600
TZOFFSETTO:-0500
TZNAME:CDT
DTSTART:20230312T080000
END:DAYLIGHT
BEGIN:STANDARD
TZOFFSETFROM:-0500
TZOFFSETTO:-0600
TZNAME:CST
DTSTART:20231105T070000
END:STANDARD
END:VTIMEZONE
BEGIN:VEVENT
DTSTART;TZID=America/Chicago:20221029T103000
DTEND;TZID=America/Chicago:20221029T120000
DTSTAMP:20260424T191217
CREATED:20221018T233839Z
LAST-MODIFIED:20221018T233846Z
UID:10000079-1667039400-1667044800@www.crystalfallsgirlscouts.org
SUMMARY:Tie-Dye Recruitment Event
DESCRIPTION:Interested in learning more about Girl Scouts? Join the Crystal Falls Service Unit for a recruitment event – learn more about what it means to be a scout and tie-dye some fun takeaways at the same time! \n\n\n\nNo RSVP necessary!! \n\n\n\n**When you get to Lakewood Park\, proceed to The Overlook.**
URL:https://www.crystalfallsgirlscouts.org/event/tie-dye-recruitment-event/
LOCATION:Lakewood Park\, 2040 Artesian Springs Crossing\, Leander\, Texas\, 78641\, United States
CATEGORIES:Recruitment
ATTACH;FMTTYPE=image/png:https://www.crystalfallsgirlscouts.org/wp-content/uploads/2022/07/2022-07-16-tie-dye-featured.png
ORGANIZER;CN="CFSU Recruitment Coordinator":MAILTO:cfsurecruitment@gmail.com
END:VEVENT
BEGIN:VEVENT
DTSTART;TZID=America/Chicago:20220829T190000
DTEND;TZID=America/Chicago:20220829T200000
DTSTAMP:20260424T191217
CREATED:20220829T131712Z
LAST-MODIFIED:20220829T132520Z
UID:10000071-1661799600-1661803200@www.crystalfallsgirlscouts.org
SUMMARY:Parent Recruitment Meeting
DESCRIPTION:Please join us for our parent meeting via Zoom to go over what to expect with Girl Scouts including our mission\, goals\, and to answer any questions you might have.  \n\n\n\nAugust 29\, 2022\, 7:00pm-8:00pm \n\n\n\nJoin Zoom Meeting: https://zoom.us/j/97607695218Meeting ID: 976 0769 5218Passcode: CFSU<3
URL:https://www.crystalfallsgirlscouts.org/event/parent-recruitment-meeting/
CATEGORIES:Recruitment
ATTACH;FMTTYPE=image/png:https://www.crystalfallsgirlscouts.org/wp-content/uploads/2022/08/2022-08-Parent-Meeting.png
END:VEVENT
BEGIN:VEVENT
DTSTART;TZID=America/Chicago:20220716T110000
DTEND;TZID=America/Chicago:20220716T130000
DTSTAMP:20260424T191217
CREATED:20220622T000258Z
LAST-MODIFIED:20220706T005109Z
UID:10000041-1657969200-1657976400@www.crystalfallsgirlscouts.org
SUMMARY:Totally Tie-Dye
DESCRIPTION:Come meet your local Girl Scout Service Unit\, learn more about Girl Scouts and tie dye a gift to take home! \nThis event is FREE and is open to any girl in Kindergarten and up that will be attending Leander ISD in the fall. \nClick here to RSVP.
URL:https://www.crystalfallsgirlscouts.org/event/totally-tie-dye/
LOCATION:Bryson Backyard Amenity Center\, 1960 Pleasant Hill Road\, Leander\, TX\, 78641\, United States
CATEGORIES:Recruitment
ATTACH;FMTTYPE=image/png:https://www.crystalfallsgirlscouts.org/wp-content/uploads/2022/07/2022-07-16-tie-dye-featured.png
ORGANIZER;CN="CFSU Recruitment Coordinator":MAILTO:cfsurecruitment@gmail.com
END:VEVENT
BEGIN:VEVENT
DTSTART;TZID=America/Chicago:20220622T160000
DTEND;TZID=America/Chicago:20220622T180000
DTSTAMP:20260424T191217
CREATED:20220621T195304Z
LAST-MODIFIED:20220621T195424Z
UID:10000040-1655913600-1655920800@www.crystalfallsgirlscouts.org
SUMMARY:A Midsummer Night's Dream
DESCRIPTION:Join Girl Scouts Crystal Falls Service Unit for A Midsummer Night’s Dream\, by William Shakespeare. \n\n\n\nExcerpts from the classic play read aloud by local Girl Scouts.Make a fun fairy “swap”Costumes encouragedKona Ice\n\n\n\nFree event! \n\n\n\nNo registration required
URL:https://www.crystalfallsgirlscouts.org/event/a-midsummer-nights-dream/
LOCATION:Leander Public Library\, 1011 S Bagdad Road\, Leander\, Texas\, 78641\, United States
CATEGORIES:Recruitment
ATTACH;FMTTYPE=image/jpeg:https://www.crystalfallsgirlscouts.org/wp-content/uploads/2022/06/Midsummer-Nights-Dream.jpg
ORGANIZER;CN="CFSU Recruitment Coordinator":MAILTO:cfsurecruitment@gmail.com
END:VEVENT
END:VCALENDAR